BEGIN:VCALENDAR
VERSION:2.0
PRODID:-//Diana Gordillo - ECPv6.15.15//NONSGML v1.0//EN
CALSCALE:GREGORIAN
METHOD:PUBLISH
X-WR-CALNAME:Diana Gordillo
X-ORIGINAL-URL:https://dianagordillo.insurancegls.com
X-WR-CALDESC:Events for Diana Gordillo
REFRESH-INTERVAL;VALUE=DURATION:PT1H
X-Robots-Tag:noindex
X-PUBLISHED-TTL:PT1H
BEGIN:VTIMEZONE
TZID:EST
END:VTIMEZONE
BEGIN:VTIMEZONE
TZID:MST
END:VTIMEZONE
BEGIN:VTIMEZONE
TZID:CST
END:VTIMEZONE
BEGIN:VTIMEZONE
TZID:PST
END:VTIMEZONE
BEGIN:VEVENT
DTSTART;TZID=EST:20260504T100000
DTEND;TZID=EST:20260504T100000
DTSTAMP:20260422T185043
CREATED:20260404T042937Z
LAST-MODIFIED:20260422T111223Z
UID:10001801-1777888800-1777888800@dianagordillo.insurancegls.com
SUMMARY:SilverSneakers fitness benefit training
DESCRIPTION:
URL:https://dianagordillo.insurancegls.com/event/silversneakers-fitness-benefit-training/
END:VEVENT
BEGIN:VEVENT
DTSTART;TZID=MST:20260504T100000
DTEND;TZID=MST:20260504T100000
DTSTAMP:20260422T185043
CREATED:20260404T042937Z
LAST-MODIFIED:20260422T111223Z
UID:10001802-1777888800-1777888800@dianagordillo.insurancegls.com
SUMMARY:Producer World overview training
DESCRIPTION:
URL:https://dianagordillo.insurancegls.com/event/producer-world-overview-training-15/
END:VEVENT
BEGIN:VEVENT
DTSTART;TZID=EST:20260504T100000
DTEND;TZID=EST:20260504T100000
DTSTAMP:20260422T185043
CREATED:20260404T042937Z
LAST-MODIFIED:20260422T111223Z
UID:10001803-1777888800-1777888800@dianagordillo.insurancegls.com
SUMMARY:Momentum Mondays
DESCRIPTION:
URL:https://dianagordillo.insurancegls.com/event/momentum-mondays-8/
END:VEVENT
BEGIN:VEVENT
DTSTART;TZID=EST:20260504T110000
DTEND;TZID=EST:20260504T110000
DTSTAMP:20260422T185043
CREATED:20260404T042938Z
LAST-MODIFIED:20260422T111223Z
UID:10001804-1777892400-1777892400@dianagordillo.insurancegls.com
SUMMARY:2026 MA/MAPD product training
DESCRIPTION:
URL:https://dianagordillo.insurancegls.com/event/2026-ma-mapd-product-training-48/
END:VEVENT
BEGIN:VEVENT
DTSTART;TZID=CST:20260504T113000
DTEND;TZID=CST:20260504T113000
DTSTAMP:20260422T185043
CREATED:20260404T042938Z
LAST-MODIFIED:20260422T111224Z
UID:10001805-1777894200-1777894200@dianagordillo.insurancegls.com
SUMMARY:Momentum Mondays
DESCRIPTION:
URL:https://dianagordillo.insurancegls.com/event/momentum-mondays-9/
END:VEVENT
BEGIN:VEVENT
DTSTART;TZID=EST:20260504T120000
DTEND;TZID=EST:20260504T120000
DTSTAMP:20260422T185043
CREATED:20260404T042938Z
LAST-MODIFIED:20260422T111224Z
UID:10001806-1777896000-1777896000@dianagordillo.insurancegls.com
SUMMARY:Grassroots Marketing\, what is it and why is it important
DESCRIPTION:
URL:https://dianagordillo.insurancegls.com/event/grassroots-marketing-what-is-it-and-why-is-it-important-11/
END:VEVENT
BEGIN:VEVENT
DTSTART;TZID=CST:20260504T120000
DTEND;TZID=CST:20260504T120000
DTSTAMP:20260422T185043
CREATED:20260404T042938Z
LAST-MODIFIED:20260422T111224Z
UID:10001807-1777896000-1777896000@dianagordillo.insurancegls.com
SUMMARY:2026 MA/MAPD product training
DESCRIPTION:
URL:https://dianagordillo.insurancegls.com/event/2026-ma-mapd-product-training-49/
END:VEVENT
BEGIN:VEVENT
DTSTART;TZID=CST:20260505T090000
DTEND;TZID=CST:20260505T090000
DTSTAMP:20260422T185043
CREATED:20260405T043143Z
LAST-MODIFIED:20260422T111224Z
UID:10001808-1777971600-1777971600@dianagordillo.insurancegls.com
SUMMARY:Medicare Shop Talk
DESCRIPTION:
URL:https://dianagordillo.insurancegls.com/event/medicare-shop-talk-6/
END:VEVENT
BEGIN:VEVENT
DTSTART;TZID=PST:20260505T090000
DTEND;TZID=PST:20260505T090000
DTSTAMP:20260422T185043
CREATED:20260405T043143Z
LAST-MODIFIED:20260422T111224Z
UID:10001809-1777971600-1777971600@dianagordillo.insurancegls.com
SUMMARY:2026 MA/MAPD product training
DESCRIPTION:
URL:https://dianagordillo.insurancegls.com/event/2026-ma-mapd-product-training-50/
END:VEVENT
BEGIN:VEVENT
DTSTART;TZID=MST:20260505T090000
DTEND;TZID=MST:20260505T090000
DTSTAMP:20260422T185043
CREATED:20260405T043143Z
LAST-MODIFIED:20260422T111224Z
UID:10001810-1777971600-1777971600@dianagordillo.insurancegls.com
SUMMARY:2026 MA/MAPD product training
DESCRIPTION:
URL:https://dianagordillo.insurancegls.com/event/2026-ma-mapd-product-training-51/
END:VEVENT
BEGIN:VEVENT
DTSTART;TZID=EST:20260505T100000
DTEND;TZID=EST:20260505T100000
DTSTAMP:20260422T185043
CREATED:20260405T043143Z
LAST-MODIFIED:20260422T111224Z
UID:10001811-1777975200-1777975200@dianagordillo.insurancegls.com
SUMMARY:Broker Bootcamp
DESCRIPTION:
URL:https://dianagordillo.insurancegls.com/event/broker-bootcamp-4/
END:VEVENT
BEGIN:VEVENT
DTSTART;TZID=CST:20260505T100000
DTEND;TZID=CST:20260505T100000
DTSTAMP:20260422T185043
CREATED:20260405T043143Z
LAST-MODIFIED:20260422T111224Z
UID:10001812-1777975200-1777975200@dianagordillo.insurancegls.com
SUMMARY:2026 Retail Event Readiness
DESCRIPTION:
URL:https://dianagordillo.insurancegls.com/event/2026-retail-event-readiness-13/
END:VEVENT
BEGIN:VEVENT
DTSTART;TZID=CST:20260505T100000
DTEND;TZID=CST:20260505T100000
DTSTAMP:20260422T185043
CREATED:20260405T043144Z
LAST-MODIFIED:20260422T111224Z
UID:10001813-1777975200-1777975200@dianagordillo.insurancegls.com
SUMMARY:Producer World overview training
DESCRIPTION:
URL:https://dianagordillo.insurancegls.com/event/producer-world-overview-training-16/
END:VEVENT
BEGIN:VEVENT
DTSTART;TZID=EST:20260505T103000
DTEND;TZID=EST:20260505T103000
DTSTAMP:20260422T185043
CREATED:20260405T043144Z
LAST-MODIFIED:20260422T111224Z
UID:10001814-1777977000-1777977000@dianagordillo.insurancegls.com
SUMMARY:Think Agent Enrollment
DESCRIPTION:
URL:https://dianagordillo.insurancegls.com/event/think-agent-enrollment-8/
END:VEVENT
BEGIN:VEVENT
DTSTART;TZID=PST:20260505T110000
DTEND;TZID=PST:20260505T110000
DTSTAMP:20260422T185043
CREATED:20260405T043144Z
LAST-MODIFIED:20260422T111224Z
UID:10001815-1777978800-1777978800@dianagordillo.insurancegls.com
SUMMARY:Veteran Benefits and Medicare
DESCRIPTION:
URL:https://dianagordillo.insurancegls.com/event/veteran-benefits-and-medicare-6/
END:VEVENT
BEGIN:VEVENT
DTSTART;TZID=CST:20260505T110000
DTEND;TZID=CST:20260505T110000
DTSTAMP:20260422T185043
CREATED:20260405T043144Z
LAST-MODIFIED:20260422T111224Z
UID:10001816-1777978800-1777978800@dianagordillo.insurancegls.com
SUMMARY:2026 MA/MAPD product training
DESCRIPTION:
URL:https://dianagordillo.insurancegls.com/event/2026-ma-mapd-product-training-52/
END:VEVENT
BEGIN:VEVENT
DTSTART;TZID=EST:20260505T130000
DTEND;TZID=EST:20260505T130000
DTSTAMP:20260422T185043
CREATED:20260405T043144Z
LAST-MODIFIED:20260422T111225Z
UID:10001817-1777986000-1777986000@dianagordillo.insurancegls.com
SUMMARY:DSNP Playbook – A Broker Resource Guide
DESCRIPTION:
URL:https://dianagordillo.insurancegls.com/event/dsnp-playbook-a-broker-resource-guide-2/
END:VEVENT
BEGIN:VEVENT
DTSTART;TZID=PST:20260505T140000
DTEND;TZID=PST:20260505T140000
DTSTAMP:20260422T185043
CREATED:20260405T043144Z
LAST-MODIFIED:20260422T111225Z
UID:10001818-1777989600-1777989600@dianagordillo.insurancegls.com
SUMMARY:Member retention: Review tips and strategies for retaining your clients
DESCRIPTION:
URL:https://dianagordillo.insurancegls.com/event/member-retention-review-tips-and-strategies-for-retaining-your-clients-6/
END:VEVENT
BEGIN:VEVENT
DTSTART;TZID=EST:20260506T093000
DTEND;TZID=EST:20260506T093000
DTSTAMP:20260422T185043
CREATED:20260406T044645Z
LAST-MODIFIED:20260422T111225Z
UID:10001819-1778059800-1778059800@dianagordillo.insurancegls.com
SUMMARY:2026 MA/MAPD product training
DESCRIPTION:
URL:https://dianagordillo.insurancegls.com/event/2026-ma-mapd-product-training-53/
END:VEVENT
BEGIN:VEVENT
DTSTART;TZID=EST:20260506T100000
DTEND;TZID=EST:20260506T100000
DTSTAMP:20260422T185043
CREATED:20260406T044645Z
LAST-MODIFIED:20260422T111225Z
UID:10001820-1778061600-1778061600@dianagordillo.insurancegls.com
SUMMARY:Medicare Shop Talk
DESCRIPTION:
URL:https://dianagordillo.insurancegls.com/event/medicare-shop-talk-7/
END:VEVENT
BEGIN:VEVENT
DTSTART;TZID=EST:20260506T100000
DTEND;TZID=EST:20260506T100000
DTSTAMP:20260422T185043
CREATED:20260406T044645Z
LAST-MODIFIED:20260422T111225Z
UID:10001821-1778061600-1778061600@dianagordillo.insurancegls.com
SUMMARY:2026 Retail Event Readiness
DESCRIPTION:
URL:https://dianagordillo.insurancegls.com/event/2026-retail-event-readiness-14/
END:VEVENT
BEGIN:VEVENT
DTSTART;TZID=CST:20260506T100000
DTEND;TZID=CST:20260506T100000
DTSTAMP:20260422T185043
CREATED:20260406T044645Z
LAST-MODIFIED:20260422T111225Z
UID:10001822-1778061600-1778061600@dianagordillo.insurancegls.com
SUMMARY:2026 MA/MAPD product training
DESCRIPTION:
URL:https://dianagordillo.insurancegls.com/event/2026-ma-mapd-product-training-54/
END:VEVENT
BEGIN:VEVENT
DTSTART;TZID=EST:20260507T090000
DTEND;TZID=EST:20260507T090000
DTSTAMP:20260422T185043
CREATED:20260407T045845Z
LAST-MODIFIED:20260422T111225Z
UID:10001830-1778144400-1778144400@dianagordillo.insurancegls.com
SUMMARY:Broker Forum
DESCRIPTION:
URL:https://dianagordillo.insurancegls.com/event/broker-forum-14/
END:VEVENT
BEGIN:VEVENT
DTSTART;TZID=EST:20260507T100000
DTEND;TZID=EST:20260507T100000
DTSTAMP:20260422T185043
CREATED:20260407T045845Z
LAST-MODIFIED:20260422T111225Z
UID:10001831-1778148000-1778148000@dianagordillo.insurancegls.com
SUMMARY:Deep Dive\, CSNP
DESCRIPTION:
URL:https://dianagordillo.insurancegls.com/event/deep-dive-csnp-9/
END:VEVENT
BEGIN:VEVENT
DTSTART;TZID=PST:20260507T100000
DTEND;TZID=PST:20260507T100000
DTSTAMP:20260422T185043
CREATED:20260407T045845Z
LAST-MODIFIED:20260422T111225Z
UID:10001832-1778148000-1778148000@dianagordillo.insurancegls.com
SUMMARY:2026 MA/MAPD product training
DESCRIPTION:
URL:https://dianagordillo.insurancegls.com/event/2026-ma-mapd-product-training-55/
END:VEVENT
BEGIN:VEVENT
DTSTART;TZID=PST:20260507T100000
DTEND;TZID=PST:20260507T100000
DTSTAMP:20260422T185043
CREATED:20260407T045845Z
LAST-MODIFIED:20260422T111225Z
UID:10001833-1778148000-1778148000@dianagordillo.insurancegls.com
SUMMARY:Medicare Compliance 101
DESCRIPTION:
URL:https://dianagordillo.insurancegls.com/event/medicare-compliance-101-2/
END:VEVENT
BEGIN:VEVENT
DTSTART;TZID=CST:20260507T100000
DTEND;TZID=CST:20260507T100000
DTSTAMP:20260422T185043
CREATED:20260407T045845Z
LAST-MODIFIED:20260422T111225Z
UID:10001834-1778148000-1778148000@dianagordillo.insurancegls.com
SUMMARY:Grassroots Marketing\, what is it and why is it important
DESCRIPTION:
URL:https://dianagordillo.insurancegls.com/event/grassroots-marketing-what-is-it-and-why-is-it-important-12/
END:VEVENT
BEGIN:VEVENT
DTSTART;TZID=PST:20260507T110000
DTEND;TZID=PST:20260507T110000
DTSTAMP:20260422T185043
CREATED:20260407T045847Z
LAST-MODIFIED:20260422T111226Z
UID:10001823-1778151600-1778151600@dianagordillo.insurancegls.com
SUMMARY:Producer World overview training
DESCRIPTION:
URL:https://dianagordillo.insurancegls.com/event/producer-world-overview-training-17/
END:VEVENT
BEGIN:VEVENT
DTSTART;TZID=CST:20260507T110000
DTEND;TZID=CST:20260507T110000
DTSTAMP:20260422T185043
CREATED:20260407T045847Z
LAST-MODIFIED:20260422T111226Z
UID:10001824-1778151600-1778151600@dianagordillo.insurancegls.com
SUMMARY:Broker Bootcamp
DESCRIPTION:
URL:https://dianagordillo.insurancegls.com/event/broker-bootcamp-5/
END:VEVENT
BEGIN:VEVENT
DTSTART;TZID=PST:20260507T120000
DTEND;TZID=PST:20260507T120000
DTSTAMP:20260422T185043
CREATED:20260407T045847Z
LAST-MODIFIED:20260422T111226Z
UID:10001825-1778155200-1778155200@dianagordillo.insurancegls.com
SUMMARY:2026 Retail Event Readiness
DESCRIPTION:
URL:https://dianagordillo.insurancegls.com/event/2026-retail-event-readiness-15/
END:VEVENT
END:VCALENDAR