BEGIN:VCALENDAR
VERSION:2.0
PRODID:-//Diana Gordillo - ECPv6.15.15//NONSGML v1.0//EN
CALSCALE:GREGORIAN
METHOD:PUBLISH
X-WR-CALNAME:Diana Gordillo
X-ORIGINAL-URL:https://dianagordillo.insurancegls.com
X-WR-CALDESC:Events for Diana Gordillo
REFRESH-INTERVAL;VALUE=DURATION:PT1H
X-Robots-Tag:noindex
X-PUBLISHED-TTL:PT1H
BEGIN:VTIMEZONE
TZID:America/New_York
BEGIN:DAYLIGHT
TZOFFSETFROM:-0500
TZOFFSETTO:-0400
TZNAME:EDT
DTSTART:20240310T070000
END:DAYLIGHT
BEGIN:STANDARD
TZOFFSETFROM:-0400
TZOFFSETTO:-0500
TZNAME:EST
DTSTART:20241103T060000
END:STANDARD
BEGIN:DAYLIGHT
TZOFFSETFROM:-0500
TZOFFSETTO:-0400
TZNAME:EDT
DTSTART:20250309T070000
END:DAYLIGHT
BEGIN:STANDARD
TZOFFSETFROM:-0400
TZOFFSETTO:-0500
TZNAME:EST
DTSTART:20251102T060000
END:STANDARD
BEGIN:DAYLIGHT
TZOFFSETFROM:-0500
TZOFFSETTO:-0400
TZNAME:EDT
DTSTART:20260308T070000
END:DAYLIGHT
BEGIN:STANDARD
TZOFFSETFROM:-0400
TZOFFSETTO:-0500
TZNAME:EST
DTSTART:20261101T060000
END:STANDARD
END:VTIMEZONE
BEGIN:VEVENT
DTSTART;TZID=America/New_York:20251021T100000
DTEND;TZID=America/New_York:20251021T110000
DTSTAMP:20260424T212307
CREATED:20251016T042853Z
LAST-MODIFIED:20251021T104010Z
UID:10001382-1761040800-1761044400@dianagordillo.insurancegls.com
SUMMARY:Cigna Healthcare Supplemental – Ordering Sales Materials for CSB Brokers
DESCRIPTION:
URL:https://dianagordillo.insurancegls.com/event/cigna-healthcare-supplemental-ordering-sales-materials-for-csb-brokers/
END:VEVENT
BEGIN:VEVENT
DTSTART;TZID=America/New_York:20251020T113000
DTEND;TZID=America/New_York:20251020T123000
DTSTAMP:20260424T212307
CREATED:20251016T042852Z
LAST-MODIFIED:20251020T100258Z
UID:10001381-1760959800-1760963400@dianagordillo.insurancegls.com
SUMMARY:SILAC – SILAC Presents: An Easy Way to Understand Annuities
DESCRIPTION:
URL:https://dianagordillo.insurancegls.com/event/silac-silac-presents-an-easy-way-to-understand-annuities/
END:VEVENT
BEGIN:VEVENT
DTSTART;TZID=America/New_York:20251017T110000
DTEND;TZID=America/New_York:20251017T120000
DTSTAMP:20260424T212307
CREATED:20251016T042852Z
LAST-MODIFIED:20251017T090139Z
UID:10001380-1760698800-1760702400@dianagordillo.insurancegls.com
SUMMARY:Americo – Instant Decision IUL: Fast\, Flexible and Powerful Protection
DESCRIPTION:
URL:https://dianagordillo.insurancegls.com/event/americo-instant-decision-iul-fast-flexible-and-powerful-protection-2/
END:VEVENT
BEGIN:VEVENT
DTSTART;TZID=America/New_York:20251016T160000
DTEND;TZID=America/New_York:20251016T170000
DTSTAMP:20260424T212307
CREATED:20251016T042852Z
LAST-MODIFIED:20251016T042853Z
UID:10001379-1760630400-1760634000@dianagordillo.insurancegls.com
SUMMARY:Cigna Healthcare Supplemental – Dive into our Cigna Supplemental Benefits Product Portfolio
DESCRIPTION:
URL:https://dianagordillo.insurancegls.com/event/cigna-healthcare-supplemental-dive-into-our-cigna-supplemental-benefits-product-portfolio/
END:VEVENT
BEGIN:VEVENT
DTSTART;TZID=America/New_York:20251016T150000
DTEND;TZID=America/New_York:20251016T160000
DTSTAMP:20260424T212307
CREATED:20251016T042852Z
LAST-MODIFIED:20251016T042853Z
UID:10001378-1760626800-1760630400@dianagordillo.insurancegls.com
SUMMARY:ManhattanLife – Home Health Care
DESCRIPTION:
URL:https://dianagordillo.insurancegls.com/event/manhattanlife-home-health-care/
END:VEVENT
BEGIN:VEVENT
DTSTART;TZID=America/New_York:20251016T140000
DTEND;TZID=America/New_York:20251016T150000
DTSTAMP:20260424T212307
CREATED:20251016T042852Z
LAST-MODIFIED:20251016T042852Z
UID:10001377-1760623200-1760626800@dianagordillo.insurancegls.com
SUMMARY:Aetna Senior Supplemental – Cancer and Heart Attack or Stroke Plus
DESCRIPTION:
URL:https://dianagordillo.insurancegls.com/event/aetna-senior-supplemental-cancer-and-heart-attack-or-stroke-plus-2/
END:VEVENT
BEGIN:VEVENT
DTSTART;TZID=America/New_York:20251016T110000
DTEND;TZID=America/New_York:20251016T120000
DTSTAMP:20260424T212307
CREATED:20251016T042851Z
LAST-MODIFIED:20251016T042852Z
UID:10001373-1760612400-1760616000@dianagordillo.insurancegls.com
SUMMARY:Saybrus Partners – TETON 5 & TETON BONUS 5
DESCRIPTION:
URL:https://dianagordillo.insurancegls.com/event/saybrus-partners-teton-5-teton-bonus-5/
END:VEVENT
BEGIN:VEVENT
DTSTART;TZID=America/New_York:20251016T110000
DTEND;TZID=America/New_York:20251016T120000
DTSTAMP:20260424T212307
CREATED:20251016T042851Z
LAST-MODIFIED:20251016T042852Z
UID:10001374-1760612400-1760616000@dianagordillo.insurancegls.com
SUMMARY:Aetna Senior Supplemental – Hospital Indemnity Flex
DESCRIPTION:
URL:https://dianagordillo.insurancegls.com/event/aetna-senior-supplemental-hospital-indemnity-flex/
END:VEVENT
BEGIN:VEVENT
DTSTART;TZID=America/New_York:20251016T110000
DTEND;TZID=America/New_York:20251016T120000
DTSTAMP:20260424T212307
CREATED:20251016T042851Z
LAST-MODIFIED:20251016T042852Z
UID:10001375-1760612400-1760616000@dianagordillo.insurancegls.com
SUMMARY:SILAC – SILAC Presents: TETON 5 & TETON Bonus 5
DESCRIPTION:
URL:https://dianagordillo.insurancegls.com/event/silac-silac-presents-teton-5-teton-bonus-5/
END:VEVENT
BEGIN:VEVENT
DTSTART;TZID=America/New_York:20251016T110000
DTEND;TZID=America/New_York:20251016T120000
DTSTAMP:20260424T212307
CREATED:20251016T042851Z
LAST-MODIFIED:20251016T042852Z
UID:10001376-1760612400-1760616000@dianagordillo.insurancegls.com
SUMMARY:Golden Rule | UHOne – Turning Change Into Opportunity – Navigating ACA Shifts
DESCRIPTION:
URL:https://dianagordillo.insurancegls.com/event/golden-rule-uhone-turning-change-into-opportunity-navigating-aca-shifts/
END:VEVENT
BEGIN:VEVENT
DTSTART;TZID=America/New_York:20251016T100000
DTEND;TZID=America/New_York:20251016T110000
DTSTAMP:20260424T212307
CREATED:20251016T042850Z
LAST-MODIFIED:20251016T042852Z
UID:10001372-1760608800-1760612400@dianagordillo.insurancegls.com
SUMMARY:Cigna Healthcare Supplemental – How Cigna Healthcare Choice Accident works (CSB)
DESCRIPTION:
URL:https://dianagordillo.insurancegls.com/event/cigna-healthcare-supplemental-how-cigna-healthcare-choice-accident-works-csb/
END:VEVENT
BEGIN:VEVENT
DTSTART;TZID=America/New_York:20251015T120000
DTEND;TZID=America/New_York:20251015T130000
DTSTAMP:20260424T212307
CREATED:20250926T061757Z
LAST-MODIFIED:20251015T040312Z
UID:10001364-1760529600-1760533200@dianagordillo.insurancegls.com
SUMMARY:Wired for Wednesdays: Your Software Learning Hub
DESCRIPTION:
URL:https://dianagordillo.insurancegls.com/event/wired-for-wednesdays-your-software-learning-hub-3/
END:VEVENT
BEGIN:VEVENT
DTSTART;TZID=America/New_York:20251014T110000
DTEND;TZID=America/New_York:20251014T120000
DTSTAMP:20260424T212307
CREATED:20250914T154153Z
LAST-MODIFIED:20251014T031545Z
UID:10001350-1760439600-1760443200@dianagordillo.insurancegls.com
SUMMARY:2026 MA/MAPD Product Training
DESCRIPTION:
URL:https://dianagordillo.insurancegls.com/event/2026-ma-mapd-product-training-4/
END:VEVENT
BEGIN:VEVENT
DTSTART;TZID=America/New_York:20251009T110000
DTEND;TZID=America/New_York:20251009T120000
DTSTAMP:20260424T212307
CREATED:20250919T204345Z
LAST-MODIFIED:20251009T214949Z
UID:10001361-1760007600-1760011200@dianagordillo.insurancegls.com
SUMMARY:The 2025 IRA Revolution: Ed Slott’s Guide | Turning Tax Challenges into Maximum Client Value
DESCRIPTION:
URL:https://dianagordillo.insurancegls.com/event/the-2025-ira-revolution-ed-slotts-guide-turning-tax-challenges-into-maximum-client-value/
END:VEVENT
BEGIN:VEVENT
DTSTART;TZID=America/New_York:20251008T090000
DTEND;TZID=America/New_York:20251008T100000
DTSTAMP:20260424T212307
CREATED:20250910T052051Z
LAST-MODIFIED:20251008T211358Z
UID:10001349-1759914000-1759917600@dianagordillo.insurancegls.com
SUMMARY:Devoted Health Agent Onboarding Live Webinar
DESCRIPTION:
URL:https://dianagordillo.insurancegls.com/event/devoted-health-agent-onboarding-live-webinar-4/
END:VEVENT
BEGIN:VEVENT
DTSTART;TZID=America/New_York:20251007T130000
DTEND;TZID=America/New_York:20251007T140000
DTSTAMP:20260424T212307
CREATED:20250910T052051Z
LAST-MODIFIED:20251007T145543Z
UID:10001348-1759842000-1759845600@dianagordillo.insurancegls.com
SUMMARY:Devoted Health Agent Onboarding Live Webinar
DESCRIPTION:
URL:https://dianagordillo.insurancegls.com/event/devoted-health-agent-onboarding-live-webinar-3/
END:VEVENT
BEGIN:VEVENT
DTSTART;TZID=America/New_York:20251007T110000
DTEND;TZID=America/New_York:20251007T120000
DTSTAMP:20260424T212307
CREATED:20250910T052050Z
LAST-MODIFIED:20251007T145543Z
UID:10001347-1759834800-1759838400@dianagordillo.insurancegls.com
SUMMARY:2026 MA/MAPD Product Training
DESCRIPTION:
URL:https://dianagordillo.insurancegls.com/event/2026-ma-mapd-product-training-3/
END:VEVENT
BEGIN:VEVENT
DTSTART;TZID=America/New_York:20251007T100000
DTEND;TZID=America/New_York:20251007T110000
DTSTAMP:20260424T212307
CREATED:20250919T204344Z
LAST-MODIFIED:20251007T145542Z
UID:10001360-1759831200-1759834800@dianagordillo.insurancegls.com
SUMMARY:Virtual Training FL Blue Medicare 2026 AEP Central/West FL
DESCRIPTION:
URL:https://dianagordillo.insurancegls.com/event/virtual-training-fl-blue-medicare-2026-aep-central-west-fl-2/
END:VEVENT
BEGIN:VEVENT
DTSTART;TZID=America/New_York:20251002T100000
DTEND;TZID=America/New_York:20251002T110000
DTSTAMP:20260424T212307
CREATED:20250910T052050Z
LAST-MODIFIED:20251002T104541Z
UID:10001346-1759399200-1759402800@dianagordillo.insurancegls.com
SUMMARY:Virtual 2026 AEP Georgia Roadshows
DESCRIPTION:
URL:https://dianagordillo.insurancegls.com/event/virtual-2026-aep-georgia-roadshows-3/
END:VEVENT
BEGIN:VEVENT
DTSTART;TZID=America/New_York:20250930T190000
DTEND;TZID=America/New_York:20250930T200000
DTSTAMP:20260424T212307
CREATED:20250910T052050Z
LAST-MODIFIED:20250930T104227Z
UID:10001345-1759258800-1759262400@dianagordillo.insurancegls.com
SUMMARY:Selling F&G IUL’s: Product Positioning
DESCRIPTION:
URL:https://dianagordillo.insurancegls.com/event/selling-fg-iuls-product-positioning-3/
END:VEVENT
BEGIN:VEVENT
DTSTART;TZID=America/New_York:20250930T150000
DTEND;TZID=America/New_York:20250930T160000
DTSTAMP:20260424T212307
CREATED:20250910T052050Z
LAST-MODIFIED:20250930T104227Z
UID:10001343-1759244400-1759248000@dianagordillo.insurancegls.com
SUMMARY:Affordable Choice (Spanish)
DESCRIPTION:
URL:https://dianagordillo.insurancegls.com/event/affordable-choice-spanish/
END:VEVENT
BEGIN:VEVENT
DTSTART;TZID=America/New_York:20250930T150000
DTEND;TZID=America/New_York:20250930T160000
DTSTAMP:20260424T212307
CREATED:20250910T052050Z
LAST-MODIFIED:20250930T104227Z
UID:10001344-1759244400-1759248000@dianagordillo.insurancegls.com
SUMMARY:New to Cigna/Cigna for Brokers Portal Training
DESCRIPTION:
URL:https://dianagordillo.insurancegls.com/event/new-to-cigna-cigna-for-brokers-portal-training-3/
END:VEVENT
BEGIN:VEVENT
DTSTART;TZID=America/New_York:20250930T130000
DTEND;TZID=America/New_York:20250930T140000
DTSTAMP:20260424T212307
CREATED:20250926T061756Z
LAST-MODIFIED:20250930T104227Z
UID:10001363-1759237200-1759240800@dianagordillo.insurancegls.com
SUMMARY:Elevate Your AEP Game: Strategies for Next-Level Success
DESCRIPTION:
URL:https://dianagordillo.insurancegls.com/event/elevate-your-aep-game-strategies-for-next-level-success/
END:VEVENT
BEGIN:VEVENT
DTSTART;TZID=America/New_York:20250930T130000
DTEND;TZID=America/New_York:20250930T140000
DTSTAMP:20260424T212307
CREATED:20250910T052050Z
LAST-MODIFIED:20250930T104227Z
UID:10001342-1759237200-1759240800@dianagordillo.insurancegls.com
SUMMARY:Dental\, Vision\, & Hearing Flex
DESCRIPTION:
URL:https://dianagordillo.insurancegls.com/event/dental-vision-hearing-flex-2/
END:VEVENT
BEGIN:VEVENT
DTSTART;TZID=America/New_York:20250930T110000
DTEND;TZID=America/New_York:20250930T120000
DTSTAMP:20260424T212307
CREATED:20250910T052049Z
LAST-MODIFIED:20250930T104226Z
UID:10001338-1759230000-1759233600@dianagordillo.insurancegls.com
SUMMARY:Tuesday Talks
DESCRIPTION:
URL:https://dianagordillo.insurancegls.com/event/tuesday-talks-3/
END:VEVENT
BEGIN:VEVENT
DTSTART;TZID=America/New_York:20250930T110000
DTEND;TZID=America/New_York:20250930T120000
DTSTAMP:20260424T212307
CREATED:20250910T052049Z
LAST-MODIFIED:20250930T104227Z
UID:10001339-1759230000-1759233600@dianagordillo.insurancegls.com
SUMMARY:Ordering Sales Materials
DESCRIPTION:
URL:https://dianagordillo.insurancegls.com/event/ordering-sales-materials-2/
END:VEVENT
BEGIN:VEVENT
DTSTART;TZID=America/New_York:20250930T110000
DTEND;TZID=America/New_York:20250930T120000
DTSTAMP:20260424T212307
CREATED:20250910T052049Z
LAST-MODIFIED:20250930T104227Z
UID:10001340-1759230000-1759233600@dianagordillo.insurancegls.com
SUMMARY:Offer More Than Just Protection with Americo’s CBO Term Products
DESCRIPTION:
URL:https://dianagordillo.insurancegls.com/event/offer-more-than-just-protection-with-americos-cbo-term-products/
END:VEVENT
BEGIN:VEVENT
DTSTART;TZID=America/New_York:20250930T110000
DTEND;TZID=America/New_York:20250930T120000
DTSTAMP:20260424T212307
CREATED:20250910T052049Z
LAST-MODIFIED:20250930T104227Z
UID:10001341-1759230000-1759233600@dianagordillo.insurancegls.com
SUMMARY:Medicare Supplement
DESCRIPTION:
URL:https://dianagordillo.insurancegls.com/event/medicare-supplement/
END:VEVENT
BEGIN:VEVENT
DTSTART;TZID=America/New_York:20250930T110000
DTEND;TZID=America/New_York:20250930T120000
DTSTAMP:20260424T212307
CREATED:20250831T175736Z
LAST-MODIFIED:20250930T104226Z
UID:10001263-1759230000-1759233600@dianagordillo.insurancegls.com
SUMMARY:Wellabe | Medico: Tuesday Talks
DESCRIPTION:
URL:https://dianagordillo.insurancegls.com/event/wellabe-medico-tuesday-talks-7/
END:VEVENT
BEGIN:VEVENT
DTSTART;TZID=America/New_York:20250929T120000
DTEND;TZID=America/New_York:20250929T130000
DTSTAMP:20260424T212307
CREATED:20250919T204342Z
LAST-MODIFIED:20250929T104211Z
UID:10001359-1759147200-1759150800@dianagordillo.insurancegls.com
SUMMARY:Introducing Pacific Venture UL 2
DESCRIPTION:
URL:https://dianagordillo.insurancegls.com/event/introducing-pacific-venture-ul-2/
END:VEVENT
END:VCALENDAR