BEGIN:VCALENDAR
VERSION:2.0
PRODID:-//Diana Gordillo - ECPv6.15.15//NONSGML v1.0//EN
CALSCALE:GREGORIAN
METHOD:PUBLISH
X-ORIGINAL-URL:https://dianagordillo.insurancegls.com
X-WR-CALDESC:Events for Diana Gordillo
REFRESH-INTERVAL;VALUE=DURATION:PT1H
X-Robots-Tag:noindex
X-PUBLISHED-TTL:PT1H
BEGIN:VTIMEZONE
TZID:PST
END:VTIMEZONE
BEGIN:VTIMEZONE
TZID:EST
END:VTIMEZONE
BEGIN:VEVENT
DTSTART;TZID=PST:20260521T150000
DTEND;TZID=PST:20260521T150000
DTSTAMP:20260422T130621
CREATED:20260421T110414Z
LAST-MODIFIED:20260422T111231Z
UID:10001897-1779375600-1779375600@dianagordillo.insurancegls.com
SUMMARY:2026 MA/MAPD product training
DESCRIPTION:
URL:https://dianagordillo.insurancegls.com/event/2026-ma-mapd-product-training-68/
END:VEVENT
BEGIN:VEVENT
DTSTART;TZID=EST:20260522T100000
DTEND;TZID=EST:20260522T100000
DTSTAMP:20260422T130621
CREATED:20260422T111231Z
LAST-MODIFIED:20260422T111231Z
UID:10001898-1779444000-1779444000@dianagordillo.insurancegls.com
SUMMARY:2026 MA/MAPD product training
DESCRIPTION:
URL:https://dianagordillo.insurancegls.com/event/2026-ma-mapd-product-training-69/
END:VEVENT
BEGIN:VEVENT
DTSTART;TZID=EST:20260522T100000
DTEND;TZID=EST:20260522T100000
DTSTAMP:20260422T130621
CREATED:20260422T111231Z
LAST-MODIFIED:20260422T111231Z
UID:10001899-1779444000-1779444000@dianagordillo.insurancegls.com
SUMMARY:Broker Forum
DESCRIPTION:
URL:https://dianagordillo.insurancegls.com/event/broker-forum-19/
END:VEVENT
BEGIN:VEVENT
DTSTART;TZID=EST:20260522T130000
DTEND;TZID=EST:20260522T130000
DTSTAMP:20260422T130621
CREATED:20260422T111231Z
LAST-MODIFIED:20260422T111231Z
UID:10001900-1779454800-1779454800@dianagordillo.insurancegls.com
SUMMARY:Fun Fact Friday
DESCRIPTION:
URL:https://dianagordillo.insurancegls.com/event/fun-fact-friday-4/
END:VEVENT
END:VCALENDAR