BEGIN:VCALENDAR
VERSION:2.0
PRODID:-//Diana Gordillo - ECPv6.15.15//NONSGML v1.0//EN
CALSCALE:GREGORIAN
METHOD:PUBLISH
X-WR-CALNAME:Diana Gordillo
X-ORIGINAL-URL:https://dianagordillo.insurancegls.com
X-WR-CALDESC:Events for Diana Gordillo
REFRESH-INTERVAL;VALUE=DURATION:PT1H
X-Robots-Tag:noindex
X-PUBLISHED-TTL:PT1H
BEGIN:VTIMEZONE
TZID:America/New_York
BEGIN:DAYLIGHT
TZOFFSETFROM:-0500
TZOFFSETTO:-0400
TZNAME:EDT
DTSTART:20250309T070000
END:DAYLIGHT
BEGIN:STANDARD
TZOFFSETFROM:-0400
TZOFFSETTO:-0500
TZNAME:EST
DTSTART:20251102T060000
END:STANDARD
BEGIN:DAYLIGHT
TZOFFSETFROM:-0500
TZOFFSETTO:-0400
TZNAME:EDT
DTSTART:20260308T070000
END:DAYLIGHT
BEGIN:STANDARD
TZOFFSETFROM:-0400
TZOFFSETTO:-0500
TZNAME:EST
DTSTART:20261101T060000
END:STANDARD
BEGIN:DAYLIGHT
TZOFFSETFROM:-0500
TZOFFSETTO:-0400
TZNAME:EDT
DTSTART:20270314T070000
END:DAYLIGHT
BEGIN:STANDARD
TZOFFSETFROM:-0400
TZOFFSETTO:-0500
TZNAME:EST
DTSTART:20271107T060000
END:STANDARD
END:VTIMEZONE
BEGIN:VEVENT
DTSTART;TZID=America/New_York:20260312T143000
DTEND;TZID=America/New_York:20260312T150000
DTSTAMP:20260422T160051
CREATED:20260210T183349Z
LAST-MODIFIED:20260312T234248Z
UID:10001527-1773325800-1773327600@dianagordillo.insurancegls.com
SUMMARY:North American – North Americans Demystifying Indexed Universal Life (IUL) Series: IUL Mechanics (Part 1)
DESCRIPTION:
URL:https://dianagordillo.insurancegls.com/event/north-american-north-americans-demystifying-indexed-universal-life-iul-series-iul-mechanics-part-1-2/
END:VEVENT
BEGIN:VEVENT
DTSTART;TZID=America/New_York:20260311T143000
DTEND;TZID=America/New_York:20260311T150000
DTSTAMP:20260422T160051
CREATED:20260223T192135Z
LAST-MODIFIED:20260311T233404Z
UID:10001533-1773239400-1773241200@dianagordillo.insurancegls.com
SUMMARY:North American – Women and Wealth: Turning Risks into Readiness
DESCRIPTION:
URL:https://dianagordillo.insurancegls.com/event/north-american-women-and-wealth-turning-risks-into-readiness/
END:VEVENT
BEGIN:VEVENT
DTSTART;TZID=America/New_York:20260227T110000
DTEND;TZID=America/New_York:20260227T113000
DTSTAMP:20260422T160051
CREATED:20260204T175755Z
LAST-MODIFIED:20260227T194542Z
UID:10001526-1772190000-1772191800@dianagordillo.insurancegls.com
SUMMARY:Americo – Mastering Term 100 & 125: The Permanent Coverage Advantage
DESCRIPTION:
URL:https://dianagordillo.insurancegls.com/event/americo-mastering-term-100-125-the-permanent-coverage-advantage/
END:VEVENT
BEGIN:VEVENT
DTSTART;TZID=America/New_York:20260226T150000
DTEND;TZID=America/New_York:20260226T153000
DTSTAMP:20260422T160051
CREATED:20260204T175755Z
LAST-MODIFIED:20260226T194208Z
UID:10001525-1772118000-1772119800@dianagordillo.insurancegls.com
SUMMARY:ManhattanLife – Spanish Affordable Choice
DESCRIPTION:
URL:https://dianagordillo.insurancegls.com/event/manhattanlife-spanish-affordable-choice-2/
END:VEVENT
BEGIN:VEVENT
DTSTART;TZID=America/New_York:20260226T140000
DTEND;TZID=America/New_York:20260226T143000
DTSTAMP:20260422T160051
CREATED:20260204T175755Z
LAST-MODIFIED:20260226T194208Z
UID:10001524-1772114400-1772116200@dianagordillo.insurancegls.com
SUMMARY:Aetna Senior Supplemental – How to Contract your Downline Agents
DESCRIPTION:
URL:https://dianagordillo.insurancegls.com/event/aetna-senior-supplemental-how-to-contract-your-downline-agents-5/
END:VEVENT
BEGIN:VEVENT
DTSTART;TZID=America/New_York:20260226T110000
DTEND;TZID=America/New_York:20260226T113000
DTSTAMP:20260422T160051
CREATED:20260223T192135Z
LAST-MODIFIED:20260226T194207Z
UID:10001531-1772103600-1772105400@dianagordillo.insurancegls.com
SUMMARY:W &S Financial – Boost Your Business with Expert Annuity Strategies & Timely Topics!
DESCRIPTION:
URL:https://dianagordillo.insurancegls.com/event/w-s-financial-boost-your-business-with-expert-annuity-strategies-timely-topics/
END:VEVENT
BEGIN:VEVENT
DTSTART;TZID=America/New_York:20260226T110000
DTEND;TZID=America/New_York:20260226T113000
DTSTAMP:20260422T160051
CREATED:20260223T192135Z
LAST-MODIFIED:20260226T194207Z
UID:10001532-1772103600-1772105400@dianagordillo.insurancegls.com
SUMMARY:North American – Financial Home Makeover: A smarter way to start retirement conversations
DESCRIPTION:
URL:https://dianagordillo.insurancegls.com/event/north-american-financial-home-makeover-a-smarter-way-to-start-retirement-conversations/
END:VEVENT
BEGIN:VEVENT
DTSTART;TZID=America/New_York:20260226T110000
DTEND;TZID=America/New_York:20260226T113000
DTSTAMP:20260422T160051
CREATED:20260204T175755Z
LAST-MODIFIED:20260226T194207Z
UID:10001522-1772103600-1772105400@dianagordillo.insurancegls.com
SUMMARY:UHOne_Golden Rule – Boost Your Sales with Accident and Critical Illness Plans
DESCRIPTION:
URL:https://dianagordillo.insurancegls.com/event/uhone_golden-rule-boost-your-sales-with-accident-and-critical-illness-plans-2/
END:VEVENT
BEGIN:VEVENT
DTSTART;TZID=America/New_York:20260226T110000
DTEND;TZID=America/New_York:20260226T113000
DTSTAMP:20260422T160051
CREATED:20260204T175755Z
LAST-MODIFIED:20260226T194207Z
UID:10001523-1772103600-1772105400@dianagordillo.insurancegls.com
SUMMARY:Aetna Senior Supplemental – Learn to Cross sell with Medicare Supplement
DESCRIPTION:
URL:https://dianagordillo.insurancegls.com/event/aetna-senior-supplemental-learn-to-cross-sell-with-medicare-supplement-4/
END:VEVENT
BEGIN:VEVENT
DTSTART;TZID=America/New_York:20260225T190000
DTEND;TZID=America/New_York:20260225T193000
DTSTAMP:20260422T160051
CREATED:20260126T174421Z
LAST-MODIFIED:20260225T194221Z
UID:10001484-1772046000-1772047800@dianagordillo.insurancegls.com
SUMMARY:F&G – Selling F&G IUL’s: Product Positioning
DESCRIPTION:
URL:https://dianagordillo.insurancegls.com/event/fg-selling-fg-iuls-product-positioning-3/
END:VEVENT
BEGIN:VEVENT
DTSTART;TZID=America/New_York:20260225T150000
DTEND;TZID=America/New_York:20260225T153000
DTSTAMP:20260422T160051
CREATED:20260204T175754Z
LAST-MODIFIED:20260225T194221Z
UID:10001521-1772031600-1772033400@dianagordillo.insurancegls.com
SUMMARY:UHOne_Golden Rule – AdvantageGuard – Hospital Indemnity Insurance Designed to Complement Seniors’ Health Insurance Plans
DESCRIPTION:
URL:https://dianagordillo.insurancegls.com/event/uhone_golden-rule-advantageguard-hospital-indemnity-insurance-designed-to-complement-seniors-health-insurance-plans-4/
END:VEVENT
BEGIN:VEVENT
DTSTART;TZID=America/New_York:20260225T143000
DTEND;TZID=America/New_York:20260225T150000
DTSTAMP:20260422T160051
CREATED:20260126T174421Z
LAST-MODIFIED:20260225T194221Z
UID:10001483-1772029800-1772031600@dianagordillo.insurancegls.com
SUMMARY:North American – Wired for Wednesday: Your Software Learning Hub-How to Read IUL Illustration Pages with Confidence Confused by Indexed Universal Life (IUL) illustration pages?
DESCRIPTION:
URL:https://dianagordillo.insurancegls.com/event/north-american-wired-for-wednesday-your-software-learning-hub-how-to-read-iul-illustration-pages-with-confidence-confused-by-indexed-universal-life-iul-illustration-pages/
END:VEVENT
BEGIN:VEVENT
DTSTART;TZID=America/New_York:20260225T113000
DTEND;TZID=America/New_York:20260225T120000
DTSTAMP:20260422T160051
CREATED:20260223T192134Z
LAST-MODIFIED:20260225T194221Z
UID:10001530-1772019000-1772020800@dianagordillo.insurancegls.com
SUMMARY:American Equity – Introducing American Equity AssetShield BONUS 5
DESCRIPTION:
URL:https://dianagordillo.insurancegls.com/event/american-equity-introducing-american-equity-assetshield-bonus-5/
END:VEVENT
BEGIN:VEVENT
DTSTART;TZID=America/New_York:20260225T110000
DTEND;TZID=America/New_York:20260225T113000
DTSTAMP:20260422T160051
CREATED:20260204T175754Z
LAST-MODIFIED:20260225T194221Z
UID:10001519-1772017200-1772019000@dianagordillo.insurancegls.com
SUMMARY:Liberty Bankers Insurance Group – LBIG Supplemental Health Products
DESCRIPTION:
URL:https://dianagordillo.insurancegls.com/event/liberty-bankers-insurance-group-lbig-supplemental-health-products/
END:VEVENT
BEGIN:VEVENT
DTSTART;TZID=America/New_York:20260225T110000
DTEND;TZID=America/New_York:20260225T113000
DTSTAMP:20260422T160051
CREATED:20260204T175754Z
LAST-MODIFIED:20260225T194221Z
UID:10001520-1772017200-1772019000@dianagordillo.insurancegls.com
SUMMARY:UHOne_Golden Rule (Spanish) – Aumenta sus ventas con los planes Accident y Critical Illness
DESCRIPTION:
URL:https://dianagordillo.insurancegls.com/event/uhone_golden-rule-spanish-aumenta-sus-ventas-con-los-planes-accident-y-critical-illness/
END:VEVENT
BEGIN:VEVENT
DTSTART;TZID=America/New_York:20260224T140000
DTEND;TZID=America/New_York:20260224T143000
DTSTAMP:20260422T160051
CREATED:20260204T175754Z
LAST-MODIFIED:20260224T193315Z
UID:10001518-1771941600-1771943400@dianagordillo.insurancegls.com
SUMMARY:ManhattanLife – Short-Term Care (Omni-Flex)
DESCRIPTION:
URL:https://dianagordillo.insurancegls.com/event/manhattanlife-short-term-care-omni-flex-3/
END:VEVENT
BEGIN:VEVENT
DTSTART;TZID=America/New_York:20260224T130000
DTEND;TZID=America/New_York:20260224T140000
DTSTAMP:20260422T160051
CREATED:20260125T174204Z
LAST-MODIFIED:20260224T193314Z
UID:10001482-1771938000-1771941600@dianagordillo.insurancegls.com
SUMMARY:National Life Group – Design to Align: Create an Efficient Qualified Plan for Small Business Owners
DESCRIPTION:
URL:https://dianagordillo.insurancegls.com/event/national-life-group-design-to-align-create-an-efficient-qualified-plan-for-small-business-owners/
END:VEVENT
BEGIN:VEVENT
DTSTART;TZID=America/New_York:20260224T110000
DTEND;TZID=America/New_York:20260224T113000
DTSTAMP:20260422T160051
CREATED:20260204T175754Z
LAST-MODIFIED:20260224T193314Z
UID:10001516-1771930800-1771932600@dianagordillo.insurancegls.com
SUMMARY:UHOne_Golden Rule – AdvantageGuard – Hospital Indemnity Insurance Designed to Complement Seniors’ Health Insurance Plans
DESCRIPTION:
URL:https://dianagordillo.insurancegls.com/event/uhone_golden-rule-advantageguard-hospital-indemnity-insurance-designed-to-complement-seniors-health-insurance-plans-3/
END:VEVENT
BEGIN:VEVENT
DTSTART;TZID=America/New_York:20260224T110000
DTEND;TZID=America/New_York:20260224T113000
DTSTAMP:20260422T160051
CREATED:20260204T175754Z
LAST-MODIFIED:20260224T193314Z
UID:10001517-1771930800-1771932600@dianagordillo.insurancegls.com
SUMMARY:Americo – Master the Americo eApplication Process
DESCRIPTION:
URL:https://dianagordillo.insurancegls.com/event/americo-master-the-americo-eapplication-process-3/
END:VEVENT
BEGIN:VEVENT
DTSTART;TZID=America/New_York:20260220T110000
DTEND;TZID=America/New_York:20260220T113000
DTSTAMP:20260422T160051
CREATED:20260204T175753Z
LAST-MODIFIED:20260220T191220Z
UID:10001515-1771585200-1771587000@dianagordillo.insurancegls.com
SUMMARY:Americo – Eagle Select: Fast and Affordable
DESCRIPTION:
URL:https://dianagordillo.insurancegls.com/event/americo-eagle-select-fast-and-affordable-2/
END:VEVENT
BEGIN:VEVENT
DTSTART;TZID=America/New_York:20260219T150000
DTEND;TZID=America/New_York:20260219T153000
DTSTAMP:20260422T160051
CREATED:20260204T175753Z
LAST-MODIFIED:20260219T191403Z
UID:10001513-1771513200-1771515000@dianagordillo.insurancegls.com
SUMMARY:UHOne_Golden Rule – Sales Solutions for Senior Clients
DESCRIPTION:
URL:https://dianagordillo.insurancegls.com/event/uhone_golden-rule-sales-solutions-for-senior-clients-5/
END:VEVENT
BEGIN:VEVENT
DTSTART;TZID=America/New_York:20260219T150000
DTEND;TZID=America/New_York:20260219T153000
DTSTAMP:20260422T160051
CREATED:20260204T175753Z
LAST-MODIFIED:20260219T191403Z
UID:10001514-1771513200-1771515000@dianagordillo.insurancegls.com
SUMMARY:ManhattanLife – Affordable Choice
DESCRIPTION:
URL:https://dianagordillo.insurancegls.com/event/manhattanlife-affordable-choice-4/
END:VEVENT
BEGIN:VEVENT
DTSTART;TZID=America/New_York:20260219T140000
DTEND;TZID=America/New_York:20260219T143000
DTSTAMP:20260422T160051
CREATED:20260204T175753Z
LAST-MODIFIED:20260219T191403Z
UID:10001512-1771509600-1771511400@dianagordillo.insurancegls.com
SUMMARY:Aetna Senior Supplemental – Cancer and Heart Attack or Stroke Plus
DESCRIPTION:
URL:https://dianagordillo.insurancegls.com/event/aetna-senior-supplemental-cancer-and-heart-attack-or-stroke-plus-5/
END:VEVENT
BEGIN:VEVENT
DTSTART;TZID=America/New_York:20260219T110000
DTEND;TZID=America/New_York:20260219T113000
DTSTAMP:20260422T160051
CREATED:20260204T175753Z
LAST-MODIFIED:20260219T191402Z
UID:10001511-1771498800-1771500600@dianagordillo.insurancegls.com
SUMMARY:Aetna Senior Supplemental – Aetna Quote & Enroll Training – Medicare Supplement
DESCRIPTION:
URL:https://dianagordillo.insurancegls.com/event/aetna-senior-supplemental-aetna-quote-enroll-training-medicare-supplement-3/
END:VEVENT
BEGIN:VEVENT
DTSTART;TZID=America/New_York:20260218T110000
DTEND;TZID=America/New_York:20260218T113000
DTSTAMP:20260422T160051
CREATED:20260204T175753Z
LAST-MODIFIED:20260218T191210Z
UID:10001510-1771412400-1771414200@dianagordillo.insurancegls.com
SUMMARY:UHOne_Golden Rule – Sales Solutions for Senior Clients
DESCRIPTION:
URL:https://dianagordillo.insurancegls.com/event/uhone_golden-rule-sales-solutions-for-senior-clients-4/
END:VEVENT
BEGIN:VEVENT
DTSTART;TZID=America/New_York:20260217T150000
DTEND;TZID=America/New_York:20260217T153000
DTSTAMP:20260422T160051
CREATED:20260204T175753Z
LAST-MODIFIED:20260217T185801Z
UID:10001509-1771340400-1771342200@dianagordillo.insurancegls.com
SUMMARY:ManhattanLife – Cancer and/or Heart & Stroke
DESCRIPTION:
URL:https://dianagordillo.insurancegls.com/event/manhattanlife-cancer-and-or-heart-stroke-5/
END:VEVENT
BEGIN:VEVENT
DTSTART;TZID=America/New_York:20260217T150000
DTEND;TZID=America/New_York:20260217T153000
DTSTAMP:20260422T160051
CREATED:20260204T175752Z
LAST-MODIFIED:20260217T185801Z
UID:10001508-1771340400-1771342200@dianagordillo.insurancegls.com
SUMMARY:UHOne_Golden Rule – Sales Solutions for Senior Clients
DESCRIPTION:
URL:https://dianagordillo.insurancegls.com/event/uhone_golden-rule-sales-solutions-for-senior-clients-3/
END:VEVENT
BEGIN:VEVENT
DTSTART;TZID=America/New_York:20260217T130000
DTEND;TZID=America/New_York:20260217T133000
DTSTAMP:20260422T160051
CREATED:20260204T175752Z
LAST-MODIFIED:20260217T185801Z
UID:10001507-1771333200-1771335000@dianagordillo.insurancegls.com
SUMMARY:Aetna Senior Supplemental – Dental\, Vision\, & Hearing Flex
DESCRIPTION:
URL:https://dianagordillo.insurancegls.com/event/aetna-senior-supplemental-dental-vision-hearing-flex-8/
END:VEVENT
BEGIN:VEVENT
DTSTART;TZID=America/New_York:20260217T110000
DTEND;TZID=America/New_York:20260217T113000
DTSTAMP:20260422T160051
CREATED:20260204T175752Z
LAST-MODIFIED:20260217T185801Z
UID:10001505-1771326000-1771327800@dianagordillo.insurancegls.com
SUMMARY:Aetna Senior Supplemental – Medicare Supplement
DESCRIPTION:
URL:https://dianagordillo.insurancegls.com/event/aetna-senior-supplemental-medicare-supplement-4/
END:VEVENT
BEGIN:VEVENT
DTSTART;TZID=America/New_York:20260217T110000
DTEND;TZID=America/New_York:20260217T113000
DTSTAMP:20260422T160051
CREATED:20260204T175752Z
LAST-MODIFIED:20260217T185801Z
UID:10001506-1771326000-1771327800@dianagordillo.insurancegls.com
SUMMARY:Americo – Americo Fast Track: Essential Training for New Agents
DESCRIPTION:
URL:https://dianagordillo.insurancegls.com/event/americo-americo-fast-track-essential-training-for-new-agents-6/
END:VEVENT
END:VCALENDAR