BEGIN:VCALENDAR
VERSION:2.0
PRODID:-//Diana Gordillo - ECPv6.15.15//NONSGML v1.0//EN
CALSCALE:GREGORIAN
METHOD:PUBLISH
X-ORIGINAL-URL:https://dianagordillo.insurancegls.com
X-WR-CALDESC:Events for Diana Gordillo
REFRESH-INTERVAL;VALUE=DURATION:PT1H
X-Robots-Tag:noindex
X-PUBLISHED-TTL:PT1H
BEGIN:VTIMEZONE
TZID:EST
END:VTIMEZONE
BEGIN:VEVENT
DTSTART;TZID=EST:20260501T100000
DTEND;TZID=EST:20260501T100000
DTSTAMP:20260422T051736
CREATED:20260401T021141Z
LAST-MODIFIED:20260421T110405Z
UID:10001798-1777629600-1777629600@dianagordillo.insurancegls.com
SUMMARY:Broker Forum
DESCRIPTION:
URL:https://dianagordillo.insurancegls.com/event/broker-forum-13/
END:VEVENT
BEGIN:VEVENT
DTSTART;TZID=EST:20260501T120000
DTEND;TZID=EST:20260501T120000
DTSTAMP:20260422T051736
CREATED:20260401T021141Z
LAST-MODIFIED:20260421T110405Z
UID:10001799-1777636800-1777636800@dianagordillo.insurancegls.com
SUMMARY:Think Agent Enrollment
DESCRIPTION:
URL:https://dianagordillo.insurancegls.com/event/think-agent-enrollment-7/
END:VEVENT
END:VCALENDAR