BEGIN:VCALENDAR
VERSION:2.0
PRODID:-//Diana Gordillo - ECPv6.15.15//NONSGML v1.0//EN
CALSCALE:GREGORIAN
METHOD:PUBLISH
X-ORIGINAL-URL:https://dianagordillo.insurancegls.com
X-WR-CALDESC:Events for Diana Gordillo
REFRESH-INTERVAL;VALUE=DURATION:PT1H
X-Robots-Tag:noindex
X-PUBLISHED-TTL:PT1H
BEGIN:VTIMEZONE
TZID:MST
END:VTIMEZONE
BEGIN:VTIMEZONE
TZID:CST
END:VTIMEZONE
BEGIN:VTIMEZONE
TZID:EST
END:VTIMEZONE
BEGIN:VTIMEZONE
TZID:America/New_York
BEGIN:DAYLIGHT
TZOFFSETFROM:-0500
TZOFFSETTO:-0400
TZNAME:EDT
DTSTART:20250309T070000
END:DAYLIGHT
BEGIN:STANDARD
TZOFFSETFROM:-0400
TZOFFSETTO:-0500
TZNAME:EST
DTSTART:20251102T060000
END:STANDARD
BEGIN:DAYLIGHT
TZOFFSETFROM:-0500
TZOFFSETTO:-0400
TZNAME:EDT
DTSTART:20260308T070000
END:DAYLIGHT
BEGIN:STANDARD
TZOFFSETFROM:-0400
TZOFFSETTO:-0500
TZNAME:EST
DTSTART:20261101T060000
END:STANDARD
BEGIN:DAYLIGHT
TZOFFSETFROM:-0500
TZOFFSETTO:-0400
TZNAME:EDT
DTSTART:20270314T070000
END:DAYLIGHT
BEGIN:STANDARD
TZOFFSETFROM:-0400
TZOFFSETTO:-0500
TZNAME:EST
DTSTART:20271107T060000
END:STANDARD
END:VTIMEZONE
BEGIN:VEVENT
DTSTART;TZID=MST:20260430T090000
DTEND;TZID=MST:20260430T090000
DTSTAMP:20260424T101220
CREATED:20260331T004239Z
LAST-MODIFIED:20260424T114248Z
UID:10001792-1777539600-1777539600@dianagordillo.insurancegls.com
SUMMARY:New broker orientation
DESCRIPTION:
URL:https://dianagordillo.insurancegls.com/event/new-broker-orientation-4/
END:VEVENT
BEGIN:VEVENT
DTSTART;TZID=MST:20260430T093000
DTEND;TZID=MST:20260430T093000
DTSTAMP:20260424T101220
CREATED:20260331T004239Z
LAST-MODIFIED:20260424T114248Z
UID:10001793-1777541400-1777541400@dianagordillo.insurancegls.com
SUMMARY:2026 MA/MAPD product training
DESCRIPTION:
URL:https://dianagordillo.insurancegls.com/event/2026-ma-mapd-product-training-46/
END:VEVENT
BEGIN:VEVENT
DTSTART;TZID=CST:20260430T100000
DTEND;TZID=CST:20260430T100000
DTSTAMP:20260424T101220
CREATED:20260331T004239Z
LAST-MODIFIED:20260424T114248Z
UID:10001794-1777543200-1777543200@dianagordillo.insurancegls.com
SUMMARY:2026 MA/MAPD product training
DESCRIPTION:
URL:https://dianagordillo.insurancegls.com/event/2026-ma-mapd-product-training-47/
END:VEVENT
BEGIN:VEVENT
DTSTART;TZID=CST:20260430T103000
DTEND;TZID=CST:20260430T103000
DTSTAMP:20260424T101220
CREATED:20260331T004239Z
LAST-MODIFIED:20260424T114248Z
UID:10001795-1777545000-1777545000@dianagordillo.insurancegls.com
SUMMARY:Ethical Conduct in Medicare Business
DESCRIPTION:
URL:https://dianagordillo.insurancegls.com/event/ethical-conduct-in-medicare-business-3/
END:VEVENT
BEGIN:VEVENT
DTSTART;TZID=EST:20260430T110000
DTEND;TZID=EST:20260430T110000
DTSTAMP:20260424T101220
CREATED:20260331T004239Z
LAST-MODIFIED:20260424T114248Z
UID:10001796-1777546800-1777546800@dianagordillo.insurancegls.com
SUMMARY:2026 Retail Event Readiness
DESCRIPTION:
URL:https://dianagordillo.insurancegls.com/event/2026-retail-event-readiness-12/
END:VEVENT
BEGIN:VEVENT
DTSTART;TZID=EST:20260430T130000
DTEND;TZID=EST:20260430T130000
DTSTAMP:20260424T101220
CREATED:20260331T004240Z
LAST-MODIFIED:20260424T114248Z
UID:10001797-1777554000-1777554000@dianagordillo.insurancegls.com
SUMMARY:Social Media for Brokers
DESCRIPTION:
URL:https://dianagordillo.insurancegls.com/event/social-media-for-brokers-2/
END:VEVENT
BEGIN:VEVENT
DTSTART;TZID=America/New_York:20260430T140000
DTEND;TZID=America/New_York:20260430T140000
DTSTAMP:20260424T101220
CREATED:20260423T113106Z
LAST-MODIFIED:20260424T114248Z
UID:10001904-1777557600-1777557600@dianagordillo.insurancegls.com
SUMMARY:Sagicor Life – Sagicor presents the BlackRock Student of the Market series
DESCRIPTION:
URL:https://dianagordillo.insurancegls.com/event/sagicor-life-sagicor-presents-the-blackrock-student-of-the-market-series-2/
END:VEVENT
BEGIN:VEVENT
DTSTART;TZID=America/New_York:20260430T150000
DTEND;TZID=America/New_York:20260430T150000
DTSTAMP:20260424T101220
CREATED:20260408T050614Z
LAST-MODIFIED:20260424T114248Z
UID:10001850-1777561200-1777561200@dianagordillo.insurancegls.com
SUMMARY:ManhattanLife – Agent Resource Center & 2.0 Enrollment
DESCRIPTION:
URL:https://dianagordillo.insurancegls.com/event/manhattanlife-agent-resource-center-2-0-enrollment-3/
END:VEVENT
END:VCALENDAR