BEGIN:VCALENDAR
VERSION:2.0
PRODID:-//Diana Gordillo - ECPv6.15.15//NONSGML v1.0//EN
CALSCALE:GREGORIAN
METHOD:PUBLISH
X-WR-CALNAME:Diana Gordillo
X-ORIGINAL-URL:https://dianagordillo.insurancegls.com
X-WR-CALDESC:Events for Diana Gordillo
REFRESH-INTERVAL;VALUE=DURATION:PT1H
X-Robots-Tag:noindex
X-PUBLISHED-TTL:PT1H
BEGIN:VTIMEZONE
TZID:CST
END:VTIMEZONE
BEGIN:VTIMEZONE
TZID:PST
END:VTIMEZONE
BEGIN:VTIMEZONE
TZID:EST
END:VTIMEZONE
BEGIN:VTIMEZONE
TZID:America/New_York
BEGIN:DAYLIGHT
TZOFFSETFROM:-0500
TZOFFSETTO:-0400
TZNAME:EDT
DTSTART:20250309T070000
END:DAYLIGHT
BEGIN:STANDARD
TZOFFSETFROM:-0400
TZOFFSETTO:-0500
TZNAME:EST
DTSTART:20251102T060000
END:STANDARD
BEGIN:DAYLIGHT
TZOFFSETFROM:-0500
TZOFFSETTO:-0400
TZNAME:EDT
DTSTART:20260308T070000
END:DAYLIGHT
BEGIN:STANDARD
TZOFFSETFROM:-0400
TZOFFSETTO:-0500
TZNAME:EST
DTSTART:20261101T060000
END:STANDARD
BEGIN:DAYLIGHT
TZOFFSETFROM:-0500
TZOFFSETTO:-0400
TZNAME:EDT
DTSTART:20270314T070000
END:DAYLIGHT
BEGIN:STANDARD
TZOFFSETFROM:-0400
TZOFFSETTO:-0500
TZNAME:EST
DTSTART:20271107T060000
END:STANDARD
END:VTIMEZONE
BEGIN:VEVENT
DTSTART;TZID=CST:20260428T083000
DTEND;TZID=CST:20260428T083000
DTSTAMP:20260422T095510
CREATED:20260329T002953Z
LAST-MODIFIED:20260422T111221Z
UID:10001779-1777365000-1777365000@dianagordillo.insurancegls.com
SUMMARY:Broker Forum
DESCRIPTION:
URL:https://dianagordillo.insurancegls.com/event/broker-forum-12/
END:VEVENT
BEGIN:VEVENT
DTSTART;TZID=PST:20260428T090000
DTEND;TZID=PST:20260428T090000
DTSTAMP:20260422T095510
CREATED:20260329T002954Z
LAST-MODIFIED:20260422T111221Z
UID:10001780-1777366800-1777366800@dianagordillo.insurancegls.com
SUMMARY:Producer World overview training
DESCRIPTION:
URL:https://dianagordillo.insurancegls.com/event/producer-world-overview-training-14/
END:VEVENT
BEGIN:VEVENT
DTSTART;TZID=CST:20260428T090000
DTEND;TZID=CST:20260428T090000
DTSTAMP:20260422T095510
CREATED:20260329T002954Z
LAST-MODIFIED:20260422T111221Z
UID:10001781-1777366800-1777366800@dianagordillo.insurancegls.com
SUMMARY:Allina Health | Aetna MAPD product training
DESCRIPTION:
URL:https://dianagordillo.insurancegls.com/event/allina-health-aetna-mapd-product-training/
END:VEVENT
BEGIN:VEVENT
DTSTART;TZID=CST:20260428T100000
DTEND;TZID=CST:20260428T100000
DTSTAMP:20260422T095510
CREATED:20260329T002954Z
LAST-MODIFIED:20260422T111221Z
UID:10001782-1777370400-1777370400@dianagordillo.insurancegls.com
SUMMARY:Think Agent: New Version Changes
DESCRIPTION:
URL:https://dianagordillo.insurancegls.com/event/think-agent-new-version-changes-6/
END:VEVENT
BEGIN:VEVENT
DTSTART;TZID=PST:20260428T110000
DTEND;TZID=PST:20260428T110000
DTSTAMP:20260422T095510
CREATED:20260329T002954Z
LAST-MODIFIED:20260422T111221Z
UID:10001783-1777374000-1777374000@dianagordillo.insurancegls.com
SUMMARY:Grassroots Marketing\, what is it and why is it important
DESCRIPTION:
URL:https://dianagordillo.insurancegls.com/event/grassroots-marketing-what-is-it-and-why-is-it-important-10/
END:VEVENT
BEGIN:VEVENT
DTSTART;TZID=EST:20260428T110000
DTEND;TZID=EST:20260428T110000
DTSTAMP:20260422T095510
CREATED:20260329T002954Z
LAST-MODIFIED:20260422T111221Z
UID:10001784-1777374000-1777374000@dianagordillo.insurancegls.com
SUMMARY:Online provider lookup/provider directory training
DESCRIPTION:
URL:https://dianagordillo.insurancegls.com/event/online-provider-lookup-provider-directory-training-5/
END:VEVENT
BEGIN:VEVENT
DTSTART;TZID=EST:20260428T130000
DTEND;TZID=EST:20260428T130000
DTSTAMP:20260422T095510
CREATED:20260329T002954Z
LAST-MODIFIED:20260422T111222Z
UID:10001786-1777381200-1777381200@dianagordillo.insurancegls.com
SUMMARY:2026 Retail Event Readiness
DESCRIPTION:
URL:https://dianagordillo.insurancegls.com/event/2026-retail-event-readiness-11/
END:VEVENT
BEGIN:VEVENT
DTSTART;TZID=America/New_York:20260428T130000
DTEND;TZID=America/New_York:20260428T140000
DTSTAMP:20260422T095510
CREATED:20260329T002954Z
LAST-MODIFIED:20260422T111222Z
UID:10001785-1777381200-1777384800@dianagordillo.insurancegls.com
SUMMARY:National Life Group – Preserve Your IRA Legacy: Passing Down Wealth & Wisdom
DESCRIPTION:
URL:https://dianagordillo.insurancegls.com/event/national-life-group-preserve-your-ira-legacy-passing-down-wealth-wisdom-2/
END:VEVENT
BEGIN:VEVENT
DTSTART;TZID=America/New_York:20260428T150000
DTEND;TZID=America/New_York:20260428T150000
DTSTAMP:20260422T095510
CREATED:20260408T050613Z
LAST-MODIFIED:20260422T111222Z
UID:10001849-1777388400-1777388400@dianagordillo.insurancegls.com
SUMMARY:ManhattanLife – Hospital Indemnity Select
DESCRIPTION:
URL:https://dianagordillo.insurancegls.com/event/manhattanlife-hospital-indemnity-select-5/
END:VEVENT
END:VCALENDAR