BEGIN:VCALENDAR
VERSION:2.0
PRODID:-//Diana Gordillo - ECPv6.15.15//NONSGML v1.0//EN
CALSCALE:GREGORIAN
METHOD:PUBLISH
X-ORIGINAL-URL:https://dianagordillo.insurancegls.com
X-WR-CALDESC:Events for Diana Gordillo
REFRESH-INTERVAL;VALUE=DURATION:PT1H
X-Robots-Tag:noindex
X-PUBLISHED-TTL:PT1H
BEGIN:VTIMEZONE
TZID:PST
END:VTIMEZONE
BEGIN:VTIMEZONE
TZID:EST
END:VTIMEZONE
BEGIN:VEVENT
DTSTART;TZID=PST:20260417T093000
DTEND;TZID=PST:20260417T093000
DTSTAMP:20260422T035910
CREATED:20260324T184513Z
LAST-MODIFIED:20260417T063356Z
UID:10001735-1776418200-1776418200@dianagordillo.insurancegls.com
SUMMARY:Grab and Go: Swing by for a refill on kits and supplies
DESCRIPTION:
URL:https://dianagordillo.insurancegls.com/event/grab-and-go-swing-by-for-a-refill-on-kits-and-supplies/
END:VEVENT
BEGIN:VEVENT
DTSTART;TZID=EST:20260417T100000
DTEND;TZID=EST:20260417T100000
DTSTAMP:20260422T035910
CREATED:20260324T184513Z
LAST-MODIFIED:20260417T063356Z
UID:10001736-1776420000-1776420000@dianagordillo.insurancegls.com
SUMMARY:2026 MA/MAPD product training
DESCRIPTION:
URL:https://dianagordillo.insurancegls.com/event/2026-ma-mapd-product-training-37/
END:VEVENT
BEGIN:VEVENT
DTSTART;TZID=EST:20260417T100000
DTEND;TZID=EST:20260417T100000
DTSTAMP:20260422T035910
CREATED:20260324T184513Z
LAST-MODIFIED:20260417T063356Z
UID:10001737-1776420000-1776420000@dianagordillo.insurancegls.com
SUMMARY:Broker Forum
DESCRIPTION:
URL:https://dianagordillo.insurancegls.com/event/broker-forum-10/
END:VEVENT
BEGIN:VEVENT
DTSTART;TZID=EST:20260417T110000
DTEND;TZID=EST:20260417T110000
DTSTAMP:20260422T035910
CREATED:20260324T184513Z
LAST-MODIFIED:20260417T063356Z
UID:10001738-1776423600-1776423600@dianagordillo.insurancegls.com
SUMMARY:2026 Retail Event Readiness
DESCRIPTION:
URL:https://dianagordillo.insurancegls.com/event/2026-retail-event-readiness-10/
END:VEVENT
BEGIN:VEVENT
DTSTART;TZID=EST:20260417T130000
DTEND;TZID=EST:20260417T130000
DTSTAMP:20260422T035910
CREATED:20260324T184513Z
LAST-MODIFIED:20260417T063356Z
UID:10001739-1776430800-1776430800@dianagordillo.insurancegls.com
SUMMARY:Deep Dive\, HMO
DESCRIPTION:
URL:https://dianagordillo.insurancegls.com/event/deep-dive-hmo-2/
END:VEVENT
BEGIN:VEVENT
DTSTART;TZID=EST:20260417T130000
DTEND;TZID=EST:20260417T130000
DTSTAMP:20260422T035910
CREATED:20260324T184513Z
LAST-MODIFIED:20260417T063356Z
UID:10001740-1776430800-1776430800@dianagordillo.insurancegls.com
SUMMARY:Deep Dive\, HMO
DESCRIPTION:
URL:https://dianagordillo.insurancegls.com/event/deep-dive-hmo-3/
END:VEVENT
END:VCALENDAR