BEGIN:VCALENDAR
VERSION:2.0
PRODID:-//Diana Gordillo - ECPv6.15.15//NONSGML v1.0//EN
CALSCALE:GREGORIAN
METHOD:PUBLISH
X-ORIGINAL-URL:https://dianagordillo.insurancegls.com
X-WR-CALDESC:Events for Diana Gordillo
REFRESH-INTERVAL;VALUE=DURATION:PT1H
X-Robots-Tag:noindex
X-PUBLISHED-TTL:PT1H
BEGIN:VTIMEZONE
TZID:EST
END:VTIMEZONE
BEGIN:VEVENT
DTSTART;TZID=EST:20260410T100000
DTEND;TZID=EST:20260410T100000
DTSTAMP:20260424T173902
CREATED:20260324T184504Z
LAST-MODIFIED:20260410T050837Z
UID:10001681-1775815200-1775815200@dianagordillo.insurancegls.com
SUMMARY:Broker Forum
DESCRIPTION:
URL:https://dianagordillo.insurancegls.com/event/broker-forum-6/
END:VEVENT
BEGIN:VEVENT
DTSTART;TZID=EST:20260410T130000
DTEND;TZID=EST:20260410T130000
DTSTAMP:20260424T173902
CREATED:20260324T184504Z
LAST-MODIFIED:20260410T050838Z
UID:10001682-1775826000-1775826000@dianagordillo.insurancegls.com
SUMMARY:Fun Fact Friday
DESCRIPTION:
URL:https://dianagordillo.insurancegls.com/event/fun-fact-friday/
END:VEVENT
BEGIN:VEVENT
DTSTART;TZID=EST:20260410T150000
DTEND;TZID=EST:20260410T150000
DTSTAMP:20260424T173902
CREATED:20260324T184504Z
LAST-MODIFIED:20260410T050838Z
UID:10001683-1775833200-1775833200@dianagordillo.insurancegls.com
SUMMARY:15 minute roundtable with your Broker Manager
DESCRIPTION:
URL:https://dianagordillo.insurancegls.com/event/15-minute-roundtable-with-your-broker-manager-2/
END:VEVENT
END:VCALENDAR