BEGIN:VCALENDAR
VERSION:2.0
PRODID:-//Diana Gordillo - ECPv6.15.15//NONSGML v1.0//EN
CALSCALE:GREGORIAN
METHOD:PUBLISH
X-ORIGINAL-URL:https://dianagordillo.insurancegls.com
X-WR-CALDESC:Events for Diana Gordillo
REFRESH-INTERVAL;VALUE=DURATION:PT1H
X-Robots-Tag:noindex
X-PUBLISHED-TTL:PT1H
BEGIN:VTIMEZONE
TZID:EST
END:VTIMEZONE
BEGIN:VTIMEZONE
TZID:MST
END:VTIMEZONE
BEGIN:VTIMEZONE
TZID:CST
END:VTIMEZONE
BEGIN:VEVENT
DTSTART;TZID=EST:20260406T090000
DTEND;TZID=EST:20260406T090000
DTSTAMP:20260422T035544
CREATED:20260324T184456Z
LAST-MODIFIED:20260406T044630Z
UID:10001633-1775466000-1775466000@dianagordillo.insurancegls.com
SUMMARY:Deep Dive\, CSNP
DESCRIPTION:
URL:https://dianagordillo.insurancegls.com/event/deep-dive-csnp-3/
END:VEVENT
BEGIN:VEVENT
DTSTART;TZID=EST:20260406T100000
DTEND;TZID=EST:20260406T100000
DTSTAMP:20260422T035544
CREATED:20260324T184456Z
LAST-MODIFIED:20260406T044630Z
UID:10001634-1775469600-1775469600@dianagordillo.insurancegls.com
SUMMARY:Deep Dive\, CSNP
DESCRIPTION:
URL:https://dianagordillo.insurancegls.com/event/deep-dive-csnp-4/
END:VEVENT
BEGIN:VEVENT
DTSTART;TZID=MST:20260406T100000
DTEND;TZID=MST:20260406T100000
DTSTAMP:20260422T035544
CREATED:20260324T184456Z
LAST-MODIFIED:20260406T044631Z
UID:10001635-1775469600-1775469600@dianagordillo.insurancegls.com
SUMMARY:Producer World overview training
DESCRIPTION:
URL:https://dianagordillo.insurancegls.com/event/producer-world-overview-training-5/
END:VEVENT
BEGIN:VEVENT
DTSTART;TZID=EST:20260406T100000
DTEND;TZID=EST:20260406T100000
DTSTAMP:20260422T035544
CREATED:20260324T184456Z
LAST-MODIFIED:20260406T044631Z
UID:10001636-1775469600-1775469600@dianagordillo.insurancegls.com
SUMMARY:Momentum Mondays
DESCRIPTION:
URL:https://dianagordillo.insurancegls.com/event/momentum-mondays-2/
END:VEVENT
BEGIN:VEVENT
DTSTART;TZID=EST:20260406T103000
DTEND;TZID=EST:20260406T103000
DTSTAMP:20260422T035544
CREATED:20260324T184457Z
LAST-MODIFIED:20260406T044631Z
UID:10001637-1775471400-1775471400@dianagordillo.insurancegls.com
SUMMARY:2026 Retail Event Readiness
DESCRIPTION:
URL:https://dianagordillo.insurancegls.com/event/2026-retail-event-readiness-4/
END:VEVENT
BEGIN:VEVENT
DTSTART;TZID=EST:20260406T110000
DTEND;TZID=EST:20260406T110000
DTSTAMP:20260422T035544
CREATED:20260324T184457Z
LAST-MODIFIED:20260406T044631Z
UID:10001638-1775473200-1775473200@dianagordillo.insurancegls.com
SUMMARY:2026 MA/MAPD product training
DESCRIPTION:
URL:https://dianagordillo.insurancegls.com/event/2026-ma-mapd-product-training-19/
END:VEVENT
BEGIN:VEVENT
DTSTART;TZID=CST:20260406T113000
DTEND;TZID=CST:20260406T113000
DTSTAMP:20260422T035544
CREATED:20260324T184457Z
LAST-MODIFIED:20260406T044631Z
UID:10001639-1775475000-1775475000@dianagordillo.insurancegls.com
SUMMARY:Momentum Mondays
DESCRIPTION:
URL:https://dianagordillo.insurancegls.com/event/momentum-mondays-3/
END:VEVENT
BEGIN:VEVENT
DTSTART;TZID=EST:20260406T120000
DTEND;TZID=EST:20260406T120000
DTSTAMP:20260422T035544
CREATED:20260324T184457Z
LAST-MODIFIED:20260406T044631Z
UID:10001640-1775476800-1775476800@dianagordillo.insurancegls.com
SUMMARY:Grassroots Marketing\, what is it and why is it important
DESCRIPTION:
URL:https://dianagordillo.insurancegls.com/event/grassroots-marketing-what-is-it-and-why-is-it-important-3/
END:VEVENT
BEGIN:VEVENT
DTSTART;TZID=EST:20260406T140000
DTEND;TZID=EST:20260406T140000
DTSTAMP:20260422T035544
CREATED:20260324T184457Z
LAST-MODIFIED:20260406T044631Z
UID:10001641-1775484000-1775484000@dianagordillo.insurancegls.com
SUMMARY:2026 MA/MAPD product training
DESCRIPTION:
URL:https://dianagordillo.insurancegls.com/event/2026-ma-mapd-product-training-20/
END:VEVENT
END:VCALENDAR