BEGIN:VCALENDAR
VERSION:2.0
PRODID:-//Diana Gordillo - ECPv6.15.15//NONSGML v1.0//EN
CALSCALE:GREGORIAN
METHOD:PUBLISH
X-WR-CALNAME:Diana Gordillo
X-ORIGINAL-URL:https://dianagordillo.insurancegls.com
X-WR-CALDESC:Events for Diana Gordillo
REFRESH-INTERVAL;VALUE=DURATION:PT1H
X-Robots-Tag:noindex
X-PUBLISHED-TTL:PT1H
BEGIN:VTIMEZONE
TZID:EST
END:VTIMEZONE
BEGIN:VTIMEZONE
TZID:CST
END:VTIMEZONE
BEGIN:VEVENT
DTSTART;TZID=EST:20260330T090000
DTEND;TZID=EST:20260330T090000
DTSTAMP:20260424T182525
CREATED:20260324T184448Z
LAST-MODIFIED:20260330T002945Z
UID:10001573-1774861200-1774861200@dianagordillo.insurancegls.com
SUMMARY:Grassroots Marketing\, what is it and why is it important
DESCRIPTION:
URL:https://dianagordillo.insurancegls.com/event/grassroots-marketing-what-is-it-and-why-is-it-important/
END:VEVENT
BEGIN:VEVENT
DTSTART;TZID=CST:20260330T100000
DTEND;TZID=CST:20260330T100000
DTSTAMP:20260424T182525
CREATED:20260324T184448Z
LAST-MODIFIED:20260330T002945Z
UID:10001574-1774864800-1774864800@dianagordillo.insurancegls.com
SUMMARY:2026 MA/MAPD product training
DESCRIPTION:
URL:https://dianagordillo.insurancegls.com/event/2026-ma-mapd-product-training-8/
END:VEVENT
BEGIN:VEVENT
DTSTART;TZID=EST:20260330T100000
DTEND;TZID=EST:20260330T100000
DTSTAMP:20260424T182525
CREATED:20260324T184449Z
LAST-MODIFIED:20260330T002945Z
UID:10001575-1774864800-1774864800@dianagordillo.insurancegls.com
SUMMARY:Centers of Influence Marketing
DESCRIPTION:
URL:https://dianagordillo.insurancegls.com/event/centers-of-influence-marketing/
END:VEVENT
BEGIN:VEVENT
DTSTART;TZID=EST:20260330T100000
DTEND;TZID=EST:20260330T100000
DTSTAMP:20260424T182525
CREATED:20260324T184449Z
LAST-MODIFIED:20260330T002945Z
UID:10001576-1774864800-1774864800@dianagordillo.insurancegls.com
SUMMARY:2026 Retail Event Readiness
DESCRIPTION:
URL:https://dianagordillo.insurancegls.com/event/2026-retail-event-readiness/
END:VEVENT
BEGIN:VEVENT
DTSTART;TZID=CST:20260330T100000
DTEND;TZID=CST:20260330T100000
DTSTAMP:20260424T182525
CREATED:20260324T184449Z
LAST-MODIFIED:20260330T002945Z
UID:10001577-1774864800-1774864800@dianagordillo.insurancegls.com
SUMMARY:Deep Dive\, CSNP
DESCRIPTION:
URL:https://dianagordillo.insurancegls.com/event/deep-dive-csnp/
END:VEVENT
BEGIN:VEVENT
DTSTART;TZID=EST:20260330T103000
DTEND;TZID=EST:20260330T103000
DTSTAMP:20260424T182525
CREATED:20260324T184449Z
LAST-MODIFIED:20260330T002945Z
UID:10001578-1774866600-1774866600@dianagordillo.insurancegls.com
SUMMARY:Special Election Periods (SEPs): Learn how to enroll beneficiaries who qualify
DESCRIPTION:
URL:https://dianagordillo.insurancegls.com/event/special-election-periods-seps-learn-how-to-enroll-beneficiaries-who-qualify/
END:VEVENT
BEGIN:VEVENT
DTSTART;TZID=EST:20260330T110000
DTEND;TZID=EST:20260330T110000
DTSTAMP:20260424T182525
CREATED:20260324T184449Z
LAST-MODIFIED:20260330T002945Z
UID:10001579-1774868400-1774868400@dianagordillo.insurancegls.com
SUMMARY:New broker orientation
DESCRIPTION:
URL:https://dianagordillo.insurancegls.com/event/new-broker-orientation/
END:VEVENT
BEGIN:VEVENT
DTSTART;TZID=CST:20260330T113000
DTEND;TZID=CST:20260330T113000
DTSTAMP:20260424T182525
CREATED:20260324T184449Z
LAST-MODIFIED:20260330T002945Z
UID:10001580-1774870200-1774870200@dianagordillo.insurancegls.com
SUMMARY:Momentum Mondays
DESCRIPTION:
URL:https://dianagordillo.insurancegls.com/event/momentum-mondays/
END:VEVENT
BEGIN:VEVENT
DTSTART;TZID=EST:20260330T160000
DTEND;TZID=EST:20260330T160000
DTSTAMP:20260424T182525
CREATED:20260324T184449Z
LAST-MODIFIED:20260330T002945Z
UID:10001581-1774886400-1774886400@dianagordillo.insurancegls.com
SUMMARY:2026 MA/MAPD product training
DESCRIPTION:
URL:https://dianagordillo.insurancegls.com/event/2026-ma-mapd-product-training-9/
END:VEVENT
END:VCALENDAR