BEGIN:VCALENDAR
VERSION:2.0
PRODID:-//Diana Gordillo - ECPv6.15.15//NONSGML v1.0//EN
CALSCALE:GREGORIAN
METHOD:PUBLISH
X-WR-CALNAME:Diana Gordillo
X-ORIGINAL-URL:https://dianagordillo.insurancegls.com
X-WR-CALDESC:Events for Diana Gordillo
REFRESH-INTERVAL;VALUE=DURATION:PT1H
X-Robots-Tag:noindex
X-PUBLISHED-TTL:PT1H
BEGIN:VTIMEZONE
TZID:PST
END:VTIMEZONE
BEGIN:VTIMEZONE
TZID:EST
END:VTIMEZONE
BEGIN:VEVENT
DTSTART;TZID=PST:20260327T100000
DTEND;TZID=PST:20260327T100000
DTSTAMP:20260422T112428
CREATED:20260324T184448Z
LAST-MODIFIED:20260325T231612Z
UID:10001569-1774605600-1774605600@dianagordillo.insurancegls.com
SUMMARY:Think Agent Enrollment
DESCRIPTION:
URL:https://dianagordillo.insurancegls.com/event/think-agent-enrollment/
END:VEVENT
BEGIN:VEVENT
DTSTART;TZID=EST:20260327T100000
DTEND;TZID=EST:20260327T100000
DTSTAMP:20260422T112428
CREATED:20260324T184448Z
LAST-MODIFIED:20260325T231621Z
UID:10001570-1774605600-1774605600@dianagordillo.insurancegls.com
SUMMARY:2026 MA/MAPD product training
DESCRIPTION:
URL:https://dianagordillo.insurancegls.com/event/2026-ma-mapd-product-training-6/
END:VEVENT
BEGIN:VEVENT
DTSTART;TZID=PST:20260327T100000
DTEND;TZID=PST:20260327T100000
DTSTAMP:20260422T112428
CREATED:20260324T184448Z
LAST-MODIFIED:20260325T231621Z
UID:10001571-1774605600-1774605600@dianagordillo.insurancegls.com
SUMMARY:2026 MA/MAPD product training
DESCRIPTION:
URL:https://dianagordillo.insurancegls.com/event/2026-ma-mapd-product-training-7/
END:VEVENT
BEGIN:VEVENT
DTSTART;TZID=EST:20260327T100000
DTEND;TZID=EST:20260327T100000
DTSTAMP:20260422T112428
CREATED:20260324T184448Z
LAST-MODIFIED:20260325T231621Z
UID:10001572-1774605600-1774605600@dianagordillo.insurancegls.com
SUMMARY:Broker Forum
DESCRIPTION:
URL:https://dianagordillo.insurancegls.com/event/broker-forum/
END:VEVENT
END:VCALENDAR