BEGIN:VCALENDAR
VERSION:2.0
PRODID:-//Diana Gordillo - ECPv6.15.15//NONSGML v1.0//EN
CALSCALE:GREGORIAN
METHOD:PUBLISH
X-WR-CALNAME:Diana Gordillo
X-ORIGINAL-URL:https://dianagordillo.insurancegls.com
X-WR-CALDESC:Events for Diana Gordillo
REFRESH-INTERVAL;VALUE=DURATION:PT1H
X-Robots-Tag:noindex
X-PUBLISHED-TTL:PT1H
BEGIN:VTIMEZONE
TZID:PST
END:VTIMEZONE
BEGIN:VTIMEZONE
TZID:America/New_York
BEGIN:DAYLIGHT
TZOFFSETFROM:-0500
TZOFFSETTO:-0400
TZNAME:EDT
DTSTART:20250309T070000
END:DAYLIGHT
BEGIN:STANDARD
TZOFFSETFROM:-0400
TZOFFSETTO:-0500
TZNAME:EST
DTSTART:20251102T060000
END:STANDARD
BEGIN:DAYLIGHT
TZOFFSETFROM:-0500
TZOFFSETTO:-0400
TZNAME:EDT
DTSTART:20260308T070000
END:DAYLIGHT
BEGIN:STANDARD
TZOFFSETFROM:-0400
TZOFFSETTO:-0500
TZNAME:EST
DTSTART:20261101T060000
END:STANDARD
BEGIN:DAYLIGHT
TZOFFSETFROM:-0500
TZOFFSETTO:-0400
TZNAME:EDT
DTSTART:20270314T070000
END:DAYLIGHT
BEGIN:STANDARD
TZOFFSETFROM:-0400
TZOFFSETTO:-0500
TZNAME:EST
DTSTART:20271107T060000
END:STANDARD
END:VTIMEZONE
BEGIN:VEVENT
DTSTART;TZID=PST:20260326T100000
DTEND;TZID=PST:20260326T100000
DTSTAMP:20260424T063912
CREATED:20260324T184447Z
LAST-MODIFIED:20260325T231611Z
UID:10001568-1774519200-1774519200@dianagordillo.insurancegls.com
SUMMARY:Producer World overview training
DESCRIPTION:
URL:https://dianagordillo.insurancegls.com/event/producer-world-overview-training/
END:VEVENT
BEGIN:VEVENT
DTSTART;TZID=America/New_York:20260326T110000
DTEND;TZID=America/New_York:20260326T113000
DTSTAMP:20260424T063912
CREATED:20260314T001351Z
LAST-MODIFIED:20260325T231611Z
UID:10001558-1774522800-1774524600@dianagordillo.insurancegls.com
SUMMARY:UnitedHealthcare – Boost Your Sales with Accident and Critical Illness Plans
DESCRIPTION:
URL:https://dianagordillo.insurancegls.com/event/unitedhealthcare-boost-your-sales-with-accident-and-critical-illness-plans-2/
END:VEVENT
BEGIN:VEVENT
DTSTART;TZID=America/New_York:20260326T110000
DTEND;TZID=America/New_York:20260326T113000
DTSTAMP:20260424T063912
CREATED:20260314T001351Z
LAST-MODIFIED:20260325T231611Z
UID:10001559-1774522800-1774524600@dianagordillo.insurancegls.com
SUMMARY:Americo – Live Demo: How to run an IUL Premium Quotes and Illustrations
DESCRIPTION:
URL:https://dianagordillo.insurancegls.com/event/americo-live-demo-how-to-run-an-iul-premium-quotes-and-illustrations/
END:VEVENT
BEGIN:VEVENT
DTSTART;TZID=America/New_York:20260326T150000
DTEND;TZID=America/New_York:20260326T153000
DTSTAMP:20260424T063912
CREATED:20260314T001351Z
LAST-MODIFIED:20260325T231611Z
UID:10001560-1774537200-1774539000@dianagordillo.insurancegls.com
SUMMARY:ManhattanLife – Spanish Dental Vision & Hearing
DESCRIPTION:
URL:https://dianagordillo.insurancegls.com/event/manhattanlife-spanish-dental-vision-hearing/
END:VEVENT
BEGIN:VEVENT
DTSTART;TZID=America/New_York:20260326T150000
DTEND;TZID=America/New_York:20260326T153000
DTSTAMP:20260424T063912
CREATED:20260314T001351Z
LAST-MODIFIED:20260325T231611Z
UID:10001561-1774537200-1774539000@dianagordillo.insurancegls.com
SUMMARY:Wellabe | Medico – Critical Illness insurance: Help clients build coverage that fits their needs
DESCRIPTION:
URL:https://dianagordillo.insurancegls.com/event/wellabe-medico-critical-illness-insurance-help-clients-build-coverage-that-fits-their-needs/
END:VEVENT
END:VCALENDAR