BEGIN:VCALENDAR
VERSION:2.0
PRODID:-//Diana Gordillo - ECPv6.15.15//NONSGML v1.0//EN
CALSCALE:GREGORIAN
METHOD:PUBLISH
X-WR-CALNAME:Diana Gordillo
X-ORIGINAL-URL:https://dianagordillo.insurancegls.com
X-WR-CALDESC:Events for Diana Gordillo
REFRESH-INTERVAL;VALUE=DURATION:PT1H
X-Robots-Tag:noindex
X-PUBLISHED-TTL:PT1H
BEGIN:VTIMEZONE
TZID:America/New_York
BEGIN:DAYLIGHT
TZOFFSETFROM:-0500
TZOFFSETTO:-0400
TZNAME:EDT
DTSTART:20250309T070000
END:DAYLIGHT
BEGIN:STANDARD
TZOFFSETFROM:-0400
TZOFFSETTO:-0500
TZNAME:EST
DTSTART:20251102T060000
END:STANDARD
BEGIN:DAYLIGHT
TZOFFSETFROM:-0500
TZOFFSETTO:-0400
TZNAME:EDT
DTSTART:20260308T070000
END:DAYLIGHT
BEGIN:STANDARD
TZOFFSETFROM:-0400
TZOFFSETTO:-0500
TZNAME:EST
DTSTART:20261101T060000
END:STANDARD
BEGIN:DAYLIGHT
TZOFFSETFROM:-0500
TZOFFSETTO:-0400
TZNAME:EDT
DTSTART:20270314T070000
END:DAYLIGHT
BEGIN:STANDARD
TZOFFSETFROM:-0400
TZOFFSETTO:-0500
TZNAME:EST
DTSTART:20271107T060000
END:STANDARD
END:VTIMEZONE
BEGIN:VEVENT
DTSTART;TZID=America/New_York:20260319T110000
DTEND;TZID=America/New_York:20260319T113000
DTSTAMP:20260422T124445
CREATED:20260314T001346Z
LAST-MODIFIED:20260319T080231Z
UID:10001543-1773918000-1773919800@dianagordillo.insurancegls.com
SUMMARY:W &S Financial Group – Protecting and Connecting to the Next Generation
DESCRIPTION:
URL:https://dianagordillo.insurancegls.com/event/w-s-financial-group-protecting-and-connecting-to-the-next-generation/
END:VEVENT
BEGIN:VEVENT
DTSTART;TZID=America/New_York:20260319T110000
DTEND;TZID=America/New_York:20260319T113000
DTSTAMP:20260422T124445
CREATED:20260314T001346Z
LAST-MODIFIED:20260319T080231Z
UID:10001544-1773918000-1773919800@dianagordillo.insurancegls.com
SUMMARY:W &S Financial Group – Protecting and Connecting to the Next Generation – Boost Your Business with Expert Annuity Strategies & Timely Topics!
DESCRIPTION:
URL:https://dianagordillo.insurancegls.com/event/w-s-financial-group-protecting-and-connecting-to-the-next-generation-boost-your-business-with-expert-annuity-strategies-timely-topics/
END:VEVENT
BEGIN:VEVENT
DTSTART;TZID=America/New_York:20260319T143000
DTEND;TZID=America/New_York:20260319T150000
DTSTAMP:20260422T124445
CREATED:20260314T001349Z
LAST-MODIFIED:20260319T080231Z
UID:10001545-1773930600-1773932400@dianagordillo.insurancegls.com
SUMMARY:North American – North Americans Demystifying Indexed Universal Life (IUL) Series
DESCRIPTION:
URL:https://dianagordillo.insurancegls.com/event/north-american-north-americans-demystifying-indexed-universal-life-iul-series/
END:VEVENT
BEGIN:VEVENT
DTSTART;TZID=America/New_York:20260319T150000
DTEND;TZID=America/New_York:20260319T153000
DTSTAMP:20260422T124445
CREATED:20260314T001349Z
LAST-MODIFIED:20260319T080232Z
UID:10001546-1773932400-1773934200@dianagordillo.insurancegls.com
SUMMARY:UnitedHealthcare – Sales Solutions for Senior Clients
DESCRIPTION:
URL:https://dianagordillo.insurancegls.com/event/unitedhealthcare-sales-solutions-for-senior-clients-3/
END:VEVENT
BEGIN:VEVENT
DTSTART;TZID=America/New_York:20260319T150000
DTEND;TZID=America/New_York:20260319T153000
DTSTAMP:20260422T124445
CREATED:20260314T001349Z
LAST-MODIFIED:20260319T080232Z
UID:10001547-1773932400-1773934200@dianagordillo.insurancegls.com
SUMMARY:ManhattanLife – Affordable Choice
DESCRIPTION:
URL:https://dianagordillo.insurancegls.com/event/manhattanlife-affordable-choice-5/
END:VEVENT
BEGIN:VEVENT
DTSTART;TZID=America/New_York:20260319T150000
DTEND;TZID=America/New_York:20260319T153000
DTSTAMP:20260422T124445
CREATED:20260314T001350Z
LAST-MODIFIED:20260319T080232Z
UID:10001548-1773932400-1773934200@dianagordillo.insurancegls.com
SUMMARY:Wellabe | Medico – Hospital Indemnity insurance/ MyEasy Match Demo
DESCRIPTION:
URL:https://dianagordillo.insurancegls.com/event/wellabe-medico-hospital-indemnity-insurance-myeasy-match-demo/
END:VEVENT
END:VCALENDAR