BEGIN:VCALENDAR
VERSION:2.0
PRODID:-//Diana Gordillo - ECPv6.15.15//NONSGML v1.0//EN
CALSCALE:GREGORIAN
METHOD:PUBLISH
X-WR-CALNAME:Diana Gordillo
X-ORIGINAL-URL:https://dianagordillo.insurancegls.com
X-WR-CALDESC:Events for Diana Gordillo
REFRESH-INTERVAL;VALUE=DURATION:PT1H
X-Robots-Tag:noindex
X-PUBLISHED-TTL:PT1H
BEGIN:VTIMEZONE
TZID:America/New_York
BEGIN:DAYLIGHT
TZOFFSETFROM:-0500
TZOFFSETTO:-0400
TZNAME:EDT
DTSTART:20250309T070000
END:DAYLIGHT
BEGIN:STANDARD
TZOFFSETFROM:-0400
TZOFFSETTO:-0500
TZNAME:EST
DTSTART:20251102T060000
END:STANDARD
BEGIN:DAYLIGHT
TZOFFSETFROM:-0500
TZOFFSETTO:-0400
TZNAME:EDT
DTSTART:20260308T070000
END:DAYLIGHT
BEGIN:STANDARD
TZOFFSETFROM:-0400
TZOFFSETTO:-0500
TZNAME:EST
DTSTART:20261101T060000
END:STANDARD
BEGIN:DAYLIGHT
TZOFFSETFROM:-0500
TZOFFSETTO:-0400
TZNAME:EDT
DTSTART:20270314T070000
END:DAYLIGHT
BEGIN:STANDARD
TZOFFSETFROM:-0400
TZOFFSETTO:-0500
TZNAME:EST
DTSTART:20271107T060000
END:STANDARD
END:VTIMEZONE
BEGIN:VEVENT
DTSTART;TZID=America/New_York:20260317T110000
DTEND;TZID=America/New_York:20260317T113000
DTSTAMP:20260424T131101
CREATED:20260314T001346Z
LAST-MODIFIED:20260317T043242Z
UID:10001536-1773745200-1773747000@dianagordillo.insurancegls.com
SUMMARY:Wellabe | Medico – Tuesday Talk!
DESCRIPTION:
URL:https://dianagordillo.insurancegls.com/event/wellabe-medico-tuesday-talk-8/
END:VEVENT
BEGIN:VEVENT
DTSTART;TZID=America/New_York:20260317T110000
DTEND;TZID=America/New_York:20260317T113000
DTSTAMP:20260424T131101
CREATED:20260314T001346Z
LAST-MODIFIED:20260317T043242Z
UID:10001537-1773745200-1773747000@dianagordillo.insurancegls.com
SUMMARY:Americo – Eagle Select: Fast and Affordable
DESCRIPTION:
URL:https://dianagordillo.insurancegls.com/event/americo-eagle-select-fast-and-affordable-3/
END:VEVENT
BEGIN:VEVENT
DTSTART;TZID=America/New_York:20260317T120000
DTEND;TZID=America/New_York:20260317T123000
DTSTAMP:20260424T131101
CREATED:20260314T001346Z
LAST-MODIFIED:20260317T043242Z
UID:10001538-1773748800-1773750600@dianagordillo.insurancegls.com
SUMMARY:Mutual of Omaha – Stay Ahead with Medicare Insights
DESCRIPTION:
URL:https://dianagordillo.insurancegls.com/event/mutual-of-omaha-stay-ahead-with-medicare-insights/
END:VEVENT
BEGIN:VEVENT
DTSTART;TZID=America/New_York:20260317T150000
DTEND;TZID=America/New_York:20260317T153000
DTSTAMP:20260424T131101
CREATED:20260314T001346Z
LAST-MODIFIED:20260317T043242Z
UID:10001539-1773759600-1773761400@dianagordillo.insurancegls.com
SUMMARY:UnitedHealthcare – Sales Solutions for Senior Clients
DESCRIPTION:
URL:https://dianagordillo.insurancegls.com/event/unitedhealthcare-sales-solutions-for-senior-clients/
END:VEVENT
BEGIN:VEVENT
DTSTART;TZID=America/New_York:20260317T150000
DTEND;TZID=America/New_York:20260317T153000
DTSTAMP:20260424T131101
CREATED:20260314T001346Z
LAST-MODIFIED:20260317T043242Z
UID:10001540-1773759600-1773761400@dianagordillo.insurancegls.com
SUMMARY:ManhattanLife – Cancer and/or Heart & Stroke
DESCRIPTION:
URL:https://dianagordillo.insurancegls.com/event/manhattanlife-cancer-and-or-heart-stroke-6/
END:VEVENT
END:VCALENDAR