BEGIN:VCALENDAR
VERSION:2.0
PRODID:-//Diana Gordillo - ECPv6.15.15//NONSGML v1.0//EN
CALSCALE:GREGORIAN
METHOD:PUBLISH
X-ORIGINAL-URL:https://dianagordillo.insurancegls.com
X-WR-CALDESC:Events for Diana Gordillo
REFRESH-INTERVAL;VALUE=DURATION:PT1H
X-Robots-Tag:noindex
X-PUBLISHED-TTL:PT1H
BEGIN:VTIMEZONE
TZID:America/New_York
BEGIN:DAYLIGHT
TZOFFSETFROM:-0500
TZOFFSETTO:-0400
TZNAME:EDT
DTSTART:20250309T070000
END:DAYLIGHT
BEGIN:STANDARD
TZOFFSETFROM:-0400
TZOFFSETTO:-0500
TZNAME:EST
DTSTART:20251102T060000
END:STANDARD
BEGIN:DAYLIGHT
TZOFFSETFROM:-0500
TZOFFSETTO:-0400
TZNAME:EDT
DTSTART:20260308T070000
END:DAYLIGHT
BEGIN:STANDARD
TZOFFSETFROM:-0400
TZOFFSETTO:-0500
TZNAME:EST
DTSTART:20261101T060000
END:STANDARD
BEGIN:DAYLIGHT
TZOFFSETFROM:-0500
TZOFFSETTO:-0400
TZNAME:EDT
DTSTART:20270314T070000
END:DAYLIGHT
BEGIN:STANDARD
TZOFFSETFROM:-0400
TZOFFSETTO:-0500
TZNAME:EST
DTSTART:20271107T060000
END:STANDARD
END:VTIMEZONE
BEGIN:VEVENT
DTSTART;TZID=America/New_York:20260219T110000
DTEND;TZID=America/New_York:20260219T113000
DTSTAMP:20260422T155851
CREATED:20260204T175753Z
LAST-MODIFIED:20260219T191402Z
UID:10001511-1771498800-1771500600@dianagordillo.insurancegls.com
SUMMARY:Aetna Senior Supplemental – Aetna Quote & Enroll Training – Medicare Supplement
DESCRIPTION:
URL:https://dianagordillo.insurancegls.com/event/aetna-senior-supplemental-aetna-quote-enroll-training-medicare-supplement-3/
END:VEVENT
BEGIN:VEVENT
DTSTART;TZID=America/New_York:20260219T140000
DTEND;TZID=America/New_York:20260219T143000
DTSTAMP:20260422T155851
CREATED:20260204T175753Z
LAST-MODIFIED:20260219T191403Z
UID:10001512-1771509600-1771511400@dianagordillo.insurancegls.com
SUMMARY:Aetna Senior Supplemental – Cancer and Heart Attack or Stroke Plus
DESCRIPTION:
URL:https://dianagordillo.insurancegls.com/event/aetna-senior-supplemental-cancer-and-heart-attack-or-stroke-plus-5/
END:VEVENT
BEGIN:VEVENT
DTSTART;TZID=America/New_York:20260219T150000
DTEND;TZID=America/New_York:20260219T153000
DTSTAMP:20260422T155851
CREATED:20260204T175753Z
LAST-MODIFIED:20260219T191403Z
UID:10001513-1771513200-1771515000@dianagordillo.insurancegls.com
SUMMARY:UHOne_Golden Rule – Sales Solutions for Senior Clients
DESCRIPTION:
URL:https://dianagordillo.insurancegls.com/event/uhone_golden-rule-sales-solutions-for-senior-clients-5/
END:VEVENT
BEGIN:VEVENT
DTSTART;TZID=America/New_York:20260219T150000
DTEND;TZID=America/New_York:20260219T153000
DTSTAMP:20260422T155851
CREATED:20260204T175753Z
LAST-MODIFIED:20260219T191403Z
UID:10001514-1771513200-1771515000@dianagordillo.insurancegls.com
SUMMARY:ManhattanLife – Affordable Choice
DESCRIPTION:
URL:https://dianagordillo.insurancegls.com/event/manhattanlife-affordable-choice-4/
END:VEVENT
END:VCALENDAR