BEGIN:VCALENDAR
VERSION:2.0
PRODID:-//Diana Gordillo - ECPv6.15.15//NONSGML v1.0//EN
CALSCALE:GREGORIAN
METHOD:PUBLISH
X-WR-CALNAME:Diana Gordillo
X-ORIGINAL-URL:https://dianagordillo.insurancegls.com
X-WR-CALDESC:Events for Diana Gordillo
REFRESH-INTERVAL;VALUE=DURATION:PT1H
X-Robots-Tag:noindex
X-PUBLISHED-TTL:PT1H
BEGIN:VTIMEZONE
TZID:America/New_York
BEGIN:DAYLIGHT
TZOFFSETFROM:-0500
TZOFFSETTO:-0400
TZNAME:EDT
DTSTART:20250309T070000
END:DAYLIGHT
BEGIN:STANDARD
TZOFFSETFROM:-0400
TZOFFSETTO:-0500
TZNAME:EST
DTSTART:20251102T060000
END:STANDARD
BEGIN:DAYLIGHT
TZOFFSETFROM:-0500
TZOFFSETTO:-0400
TZNAME:EDT
DTSTART:20260308T070000
END:DAYLIGHT
BEGIN:STANDARD
TZOFFSETFROM:-0400
TZOFFSETTO:-0500
TZNAME:EST
DTSTART:20261101T060000
END:STANDARD
BEGIN:DAYLIGHT
TZOFFSETFROM:-0500
TZOFFSETTO:-0400
TZNAME:EDT
DTSTART:20270314T070000
END:DAYLIGHT
BEGIN:STANDARD
TZOFFSETFROM:-0400
TZOFFSETTO:-0500
TZNAME:EST
DTSTART:20271107T060000
END:STANDARD
END:VTIMEZONE
BEGIN:VEVENT
DTSTART;TZID=America/New_York:20260130T110000
DTEND;TZID=America/New_York:20260130T113000
DTSTAMP:20260422T155635
CREATED:20260124T171442Z
LAST-MODIFIED:20260130T174447Z
UID:10001480-1769770800-1769772600@dianagordillo.insurancegls.com
SUMMARY:Americo – Term Series Continuation – The Best of Term and Whole Life in One Policy
DESCRIPTION:
URL:https://dianagordillo.insurancegls.com/event/americo-term-series-continuation-the-best-of-term-and-whole-life-in-one-policy/
END:VEVENT
END:VCALENDAR