BEGIN:VCALENDAR
VERSION:2.0
PRODID:-//Diana Gordillo - ECPv6.15.15//NONSGML v1.0//EN
CALSCALE:GREGORIAN
METHOD:PUBLISH
X-WR-CALNAME:Diana Gordillo
X-ORIGINAL-URL:https://dianagordillo.insurancegls.com
X-WR-CALDESC:Events for Diana Gordillo
REFRESH-INTERVAL;VALUE=DURATION:PT1H
X-Robots-Tag:noindex
X-PUBLISHED-TTL:PT1H
BEGIN:VTIMEZONE
TZID:America/New_York
BEGIN:DAYLIGHT
TZOFFSETFROM:-0500
TZOFFSETTO:-0400
TZNAME:EDT
DTSTART:20250309T070000
END:DAYLIGHT
BEGIN:STANDARD
TZOFFSETFROM:-0400
TZOFFSETTO:-0500
TZNAME:EST
DTSTART:20251102T060000
END:STANDARD
BEGIN:DAYLIGHT
TZOFFSETFROM:-0500
TZOFFSETTO:-0400
TZNAME:EDT
DTSTART:20260308T070000
END:DAYLIGHT
BEGIN:STANDARD
TZOFFSETFROM:-0400
TZOFFSETTO:-0500
TZNAME:EST
DTSTART:20261101T060000
END:STANDARD
BEGIN:DAYLIGHT
TZOFFSETFROM:-0500
TZOFFSETTO:-0400
TZNAME:EDT
DTSTART:20270314T070000
END:DAYLIGHT
BEGIN:STANDARD
TZOFFSETFROM:-0400
TZOFFSETTO:-0500
TZNAME:EST
DTSTART:20271107T060000
END:STANDARD
END:VTIMEZONE
BEGIN:VEVENT
DTSTART;TZID=America/New_York:20260127T110000
DTEND;TZID=America/New_York:20260127T120000
DTSTAMP:20260424T131121
CREATED:20251228T025901Z
LAST-MODIFIED:20260127T174625Z
UID:10001459-1769511600-1769515200@dianagordillo.insurancegls.com
SUMMARY:Wellabe | Medico  – Tuesday Talk!
DESCRIPTION:
URL:https://dianagordillo.insurancegls.com/event/wellabe-medico-tuesday-talk-7/
END:VEVENT
BEGIN:VEVENT
DTSTART;TZID=America/New_York:20260127T130000
DTEND;TZID=America/New_York:20260127T133000
DTSTAMP:20260424T131121
CREATED:20260124T171441Z
LAST-MODIFIED:20260127T174625Z
UID:10001474-1769518800-1769520600@dianagordillo.insurancegls.com
SUMMARY:Sagicor Life – Sagicor presents the BlackRock Student of the Market series
DESCRIPTION:
URL:https://dianagordillo.insurancegls.com/event/sagicor-life-sagicor-presents-the-blackrock-student-of-the-market-series/
END:VEVENT
BEGIN:VEVENT
DTSTART;TZID=America/New_York:20260127T130000
DTEND;TZID=America/New_York:20260127T140000
DTSTAMP:20260424T131121
CREATED:20260108T121145Z
LAST-MODIFIED:20260127T174625Z
UID:10001470-1769518800-1769522400@dianagordillo.insurancegls.com
SUMMARY:National Life Group – Qualified Plans: A Strategy that Makes Both Dollars and Sense
DESCRIPTION:
URL:https://dianagordillo.insurancegls.com/event/national-life-group-qualified-plans-a-strategy-that-makes-both-dollars-and-sense-2/
END:VEVENT
BEGIN:VEVENT
DTSTART;TZID=America/New_York:20260127T140000
DTEND;TZID=America/New_York:20260127T143000
DTSTAMP:20260424T131121
CREATED:20260124T171441Z
LAST-MODIFIED:20260127T174625Z
UID:10001475-1769522400-1769524200@dianagordillo.insurancegls.com
SUMMARY:Americo – Eagle Select: Fast and Affordable
DESCRIPTION:
URL:https://dianagordillo.insurancegls.com/event/americo-eagle-select-fast-and-affordable/
END:VEVENT
BEGIN:VEVENT
DTSTART;TZID=America/New_York:20260127T150000
DTEND;TZID=America/New_York:20260127T153000
DTSTAMP:20260424T131121
CREATED:20260124T171441Z
LAST-MODIFIED:20260127T174625Z
UID:10001476-1769526000-1769527800@dianagordillo.insurancegls.com
SUMMARY:ManhattanLife – Short-Term Care (Omni-Flex)
DESCRIPTION:
URL:https://dianagordillo.insurancegls.com/event/manhattanlife-short-term-care-omni-flex-2/
END:VEVENT
END:VCALENDAR