BEGIN:VCALENDAR
VERSION:2.0
PRODID:-//Diana Gordillo - ECPv6.15.15//NONSGML v1.0//EN
CALSCALE:GREGORIAN
METHOD:PUBLISH
X-ORIGINAL-URL:https://dianagordillo.insurancegls.com
X-WR-CALDESC:Events for Diana Gordillo
REFRESH-INTERVAL;VALUE=DURATION:PT1H
X-Robots-Tag:noindex
X-PUBLISHED-TTL:PT1H
BEGIN:VTIMEZONE
TZID:America/New_York
BEGIN:DAYLIGHT
TZOFFSETFROM:-0500
TZOFFSETTO:-0400
TZNAME:EDT
DTSTART:20250309T070000
END:DAYLIGHT
BEGIN:STANDARD
TZOFFSETFROM:-0400
TZOFFSETTO:-0500
TZNAME:EST
DTSTART:20251102T060000
END:STANDARD
BEGIN:DAYLIGHT
TZOFFSETFROM:-0500
TZOFFSETTO:-0400
TZNAME:EDT
DTSTART:20260308T070000
END:DAYLIGHT
BEGIN:STANDARD
TZOFFSETFROM:-0400
TZOFFSETTO:-0500
TZNAME:EST
DTSTART:20261101T060000
END:STANDARD
BEGIN:DAYLIGHT
TZOFFSETFROM:-0500
TZOFFSETTO:-0400
TZNAME:EDT
DTSTART:20270314T070000
END:DAYLIGHT
BEGIN:STANDARD
TZOFFSETFROM:-0400
TZOFFSETTO:-0500
TZNAME:EST
DTSTART:20271107T060000
END:STANDARD
END:VTIMEZONE
BEGIN:VEVENT
DTSTART;TZID=America/New_York:20260122T110000
DTEND;TZID=America/New_York:20260122T120000
DTSTAMP:20260422T143024
CREATED:20260108T121145Z
LAST-MODIFIED:20260122T171642Z
UID:10001468-1769079600-1769083200@dianagordillo.insurancegls.com
SUMMARY:Aetna Senior Supplemental – Aetna Quote & Enroll Training – Final Expense
DESCRIPTION:
URL:https://dianagordillo.insurancegls.com/event/aetna-senior-supplemental-aetna-quote-enroll-training-final-expense-4/
END:VEVENT
BEGIN:VEVENT
DTSTART;TZID=America/New_York:20260122T140000
DTEND;TZID=America/New_York:20260122T150000
DTSTAMP:20260422T143024
CREATED:20260108T121145Z
LAST-MODIFIED:20260122T171643Z
UID:10001469-1769090400-1769094000@dianagordillo.insurancegls.com
SUMMARY:Aetna Senior Supplemental – Cancer and Heart Attack or Stroke Plus
DESCRIPTION:
URL:https://dianagordillo.insurancegls.com/event/aetna-senior-supplemental-cancer-and-heart-attack-or-stroke-plus-4/
END:VEVENT
END:VCALENDAR