BEGIN:VCALENDAR
VERSION:2.0
PRODID:-//Diana Gordillo - ECPv6.15.15//NONSGML v1.0//EN
CALSCALE:GREGORIAN
METHOD:PUBLISH
X-ORIGINAL-URL:https://dianagordillo.insurancegls.com
X-WR-CALDESC:Events for Diana Gordillo
REFRESH-INTERVAL;VALUE=DURATION:PT1H
X-Robots-Tag:noindex
X-PUBLISHED-TTL:PT1H
BEGIN:VTIMEZONE
TZID:America/New_York
BEGIN:DAYLIGHT
TZOFFSETFROM:-0500
TZOFFSETTO:-0400
TZNAME:EDT
DTSTART:20250309T070000
END:DAYLIGHT
BEGIN:STANDARD
TZOFFSETFROM:-0400
TZOFFSETTO:-0500
TZNAME:EST
DTSTART:20251102T060000
END:STANDARD
BEGIN:DAYLIGHT
TZOFFSETFROM:-0500
TZOFFSETTO:-0400
TZNAME:EDT
DTSTART:20260308T070000
END:DAYLIGHT
BEGIN:STANDARD
TZOFFSETFROM:-0400
TZOFFSETTO:-0500
TZNAME:EST
DTSTART:20261101T060000
END:STANDARD
BEGIN:DAYLIGHT
TZOFFSETFROM:-0500
TZOFFSETTO:-0400
TZNAME:EDT
DTSTART:20270314T070000
END:DAYLIGHT
BEGIN:STANDARD
TZOFFSETFROM:-0400
TZOFFSETTO:-0500
TZNAME:EST
DTSTART:20271107T060000
END:STANDARD
END:VTIMEZONE
BEGIN:VEVENT
DTSTART;TZID=America/New_York:20260108T110000
DTEND;TZID=America/New_York:20260108T120000
DTSTAMP:20260422T172032
CREATED:20260108T121143Z
LAST-MODIFIED:20260108T121144Z
UID:10001460-1767870000-1767873600@dianagordillo.insurancegls.com
SUMMARY:Aetna Senior Supplemental – Aetna Quote & Enroll Training – Medicare Supplement
DESCRIPTION:
URL:https://dianagordillo.insurancegls.com/event/aetna-senior-supplemental-aetna-quote-enroll-training-medicare-supplement-2/
END:VEVENT
BEGIN:VEVENT
DTSTART;TZID=America/New_York:20260108T140000
DTEND;TZID=America/New_York:20260108T150000
DTSTAMP:20260422T172032
CREATED:20260108T121143Z
LAST-MODIFIED:20260108T121144Z
UID:10001461-1767880800-1767884400@dianagordillo.insurancegls.com
SUMMARY:Aetna Senior Supplemental – Final Expense Whole Life Insurance (CLI)
DESCRIPTION:
URL:https://dianagordillo.insurancegls.com/event/aetna-senior-supplemental-final-expense-whole-life-insurance-cli-3/
END:VEVENT
END:VCALENDAR