BEGIN:VCALENDAR
VERSION:2.0
PRODID:-//Diana Gordillo - ECPv6.15.15//NONSGML v1.0//EN
CALSCALE:GREGORIAN
METHOD:PUBLISH
X-ORIGINAL-URL:https://dianagordillo.insurancegls.com
X-WR-CALDESC:Events for Diana Gordillo
REFRESH-INTERVAL;VALUE=DURATION:PT1H
X-Robots-Tag:noindex
X-PUBLISHED-TTL:PT1H
BEGIN:VTIMEZONE
TZID:America/New_York
BEGIN:DAYLIGHT
TZOFFSETFROM:-0500
TZOFFSETTO:-0400
TZNAME:EDT
DTSTART:20240310T070000
END:DAYLIGHT
BEGIN:STANDARD
TZOFFSETFROM:-0400
TZOFFSETTO:-0500
TZNAME:EST
DTSTART:20241103T060000
END:STANDARD
BEGIN:DAYLIGHT
TZOFFSETFROM:-0500
TZOFFSETTO:-0400
TZNAME:EDT
DTSTART:20250309T070000
END:DAYLIGHT
BEGIN:STANDARD
TZOFFSETFROM:-0400
TZOFFSETTO:-0500
TZNAME:EST
DTSTART:20251102T060000
END:STANDARD
BEGIN:DAYLIGHT
TZOFFSETFROM:-0500
TZOFFSETTO:-0400
TZNAME:EDT
DTSTART:20260308T070000
END:DAYLIGHT
BEGIN:STANDARD
TZOFFSETFROM:-0400
TZOFFSETTO:-0500
TZNAME:EST
DTSTART:20261101T060000
END:STANDARD
END:VTIMEZONE
BEGIN:VEVENT
DTSTART;TZID=America/New_York:20251112T100000
DTEND;TZID=America/New_York:20251112T110000
DTSTAMP:20260424T101804
CREATED:20251014T031544Z
LAST-MODIFIED:20251015T040312Z
UID:10001369-1762941600-1762945200@dianagordillo.insurancegls.com
SUMMARY:CPA Symposium Fontainebleau Las Vegas Las Vegas\, NV
DESCRIPTION:
URL:https://dianagordillo.insurancegls.com/event/cpa-symposium-fontainebleau-las-vegas-las-vegas-nv-4/
END:VEVENT
BEGIN:VEVENT
DTSTART;TZID=America/New_York:20251112T100000
DTEND;TZID=America/New_York:20251112T110000
DTSTAMP:20260424T101804
CREATED:20251016T042900Z
LAST-MODIFIED:20251112T073102Z
UID:10001419-1762941600-1762945200@dianagordillo.insurancegls.com
SUMMARY:National Life Group – CPA Symposium Fontainebleau Las Vegas Las Vegas\, NV
DESCRIPTION:
URL:https://dianagordillo.insurancegls.com/event/national-life-group-cpa-symposium-fontainebleau-las-vegas-las-vegas-nv-3/
END:VEVENT
BEGIN:VEVENT
DTSTART;TZID=America/New_York:20251112T100000
DTEND;TZID=America/New_York:20251112T110000
DTSTAMP:20260424T101804
CREATED:20251112T073101Z
LAST-MODIFIED:20251112T073102Z
UID:10001422-1762941600-1762945200@dianagordillo.insurancegls.com
SUMMARY:National Life Group – CPA Symposium Fontainebleau Las Vegas\, NV
DESCRIPTION:
URL:https://dianagordillo.insurancegls.com/event/national-life-group-cpa-symposium-fontainebleau-las-vegas-nv/
END:VEVENT
BEGIN:VEVENT
DTSTART;TZID=America/New_York:20251112T110000
DTEND;TZID=America/New_York:20251112T120000
DTSTAMP:20260424T101804
CREATED:20251112T073101Z
LAST-MODIFIED:20251112T073102Z
UID:10001423-1762945200-1762948800@dianagordillo.insurancegls.com
SUMMARY:EquiTrust Life – Streamlined solutions to fill the long-term care planning gap
DESCRIPTION:
URL:https://dianagordillo.insurancegls.com/event/equitrust-life-streamlined-solutions-to-fill-the-long-term-care-planning-gap/
END:VEVENT
BEGIN:VEVENT
DTSTART;TZID=America/New_York:20251112T130000
DTEND;TZID=America/New_York:20251112T140000
DTSTAMP:20260424T101804
CREATED:20251112T073101Z
LAST-MODIFIED:20251112T073102Z
UID:10001424-1762952400-1762956000@dianagordillo.insurancegls.com
SUMMARY:Axonic Insurance – Trailhead FIA + Market Outlook: S&P 500 Dynamic Intraday TCA Index Insights
DESCRIPTION:
URL:https://dianagordillo.insurancegls.com/event/axonic-insurance-trailhead-fia-market-outlook-sp-500-dynamic-intraday-tca-index-insights/
END:VEVENT
BEGIN:VEVENT
DTSTART;TZID=America/New_York:20251112T150000
DTEND;TZID=America/New_York:20251112T160000
DTSTAMP:20260424T101804
CREATED:20251112T073102Z
LAST-MODIFIED:20251112T073102Z
UID:10001425-1762959600-1762963200@dianagordillo.insurancegls.com
SUMMARY:Golden Rule/UHOne – Aprovechando el Seguro de Indemnización Fija en un Mercado Sensible a los Costos (Spanish)
DESCRIPTION:
URL:https://dianagordillo.insurancegls.com/event/golden-rule-uhone-aprovechando-el-seguro-de-indemnizacion-fija-en-un-mercado-sensible-a-los-costos-spanish/
END:VEVENT
END:VCALENDAR